BEGIN:VCALENDAR
VERSION:2.0
CALSCALE:GREGORIAN
PRODID:adamgibbons/ics
METHOD:PUBLISH
X-PUBLISHED-TTL:PT1H
BEGIN:VEVENT
UID:21216@offbeat.amsterdam
SUMMARY:Evidence
DTSTAMP:20260425T180020Z
DTSTART:20260701T173000Z
DESCRIPTION:From the time he first emerged as a founding member of the semi
	nal group Dilated\nPeoples\, Evidence has established himself as one of hi
	p-hop’s most accomplished\nrappers and producers. He has worked with The A
	lchemist\, Action Bronson\, DJ\nPremier\, Westside Gunn\, and Rapsody\, an
	d also earned a Grammy Award for\nco-production on Ye’s 'The College Dropo
	ut'.\n\nHis new album\, 'Unlearning Vol. 2'\, reunites him with collaborat
	ors from across\neras. Longtime associate The Alchemist furnishes four bea
	ts and also appears on\n‘Rain Every Season’. Dilated’s DJ Babu provides cu
	ts on ‘Outta Bounds’\, while\n‘Stay Alive’ bridges three different generat
	ions of hip-hop’s underground\, with\nEvidence and Blu trading verses over
	 a beat from Conductor Williams. Through it\nall\, Evidence’s work remains
	 united\, as always\, by a commitment to hip-hop’s\nfundamental tenets: re
	invention and recontextualization\, the transformation of\nhardship into s
	omething inspiring\, and creativity above all.
URL:https://offbeat.amsterdam/event/evidence
GEO:52.3647777;4.881073026725959
LOCATION:Melkweg - Lijnbaansgracht 234A\, 1017 PH Amsterdam
STATUS:CONFIRMED
CATEGORIES:amsterdam-centrum,concert,leidseplein,lo-fi,rap,trip hop
X-ALT-DESC;FMTTYPE=text/html:<p>From the time he first emerged as a foundin
	g member of the seminal group Dilated Peoples, Evidence has established hi
	mself as one of hip-hop’s most accomplished rappers and producers. He has 
	worked with The Alchemist, Action Bronson, DJ Premier, Westside Gunn, and 
	Rapsody, and also earned a Grammy Award for co-production on Ye’s 'The Col
	lege Dropout'.</p><p>His new album, 'Unlearning Vol. 2', reunites him with
	 collaborators from across eras. Longtime associate The Alchemist furnishe
	s four beats and also appears on ‘Rain Every Season’. Dilated’s DJ Babu pr
	ovides cuts on ‘Outta Bounds’, while ‘Stay Alive’ bridges three different 
	generations of hip-hop’s underground, with Evidence and Blu trading verses
	 over a beat from Conductor Williams. Through it all, Evidence’s work rema
	ins united, as always, by a commitment to hip-hop’s fundamental tenets: re
	invention and recontextualization, the transformation of hardship into som
	ething inspiring, and creativity above all.</p>
BEGIN:VALARM
ACTION:DISPLAY
DESCRIPTION:Evidence
TRIGGER:-PT1H
END:VALARM
END:VEVENT
END:VCALENDAR
