BEGIN:VCALENDAR
VERSION:2.0
CALSCALE:GREGORIAN
PRODID:adamgibbons/ics
METHOD:PUBLISH
X-PUBLISHED-TTL:PT1H
BEGIN:VEVENT
UID:21069@offbeat.amsterdam
SUMMARY:Erin Kinsey
DTSTAMP:20260421T223025Z
DTSTART:20260823T173000Z
DESCRIPTION:Erin Kinsey is a promising country star from Texas who is quick
	ly making a name\nfor herself with her powerful voice and personal songwri
	ting. She has been\nworking on her music since her youth\, which eventuall
	y brought her to Nashville.\nIn 2021\, she signed with RECORDS Nashville\,
	 and a year later she impressed with\nher debut EP\, 40 East.\n\nWith over
	 100 million streams\, her fanbase is growing rapidly! She has written\nso
	ngs for big names like Dolly Parton and Sara Evans\, confirming her status
	 as a\nrising star. You can see the country star in our OZ on Sunday\, Aug
	ust 23!
URL:https://offbeat.amsterdam/event/erin-kinsey
GEO:52.3647777;4.881073026725959
LOCATION:Melkweg - Lijnbaansgracht 234A\, 1017 PH Amsterdam
STATUS:CONFIRMED
CATEGORIES:amsterdam-centrum,concert,country,country pop,leidseplein,line d
	ance
X-ALT-DESC;FMTTYPE=text/html:<p>Erin Kinsey is a promising country star fro
	m Texas who is quickly making a name for herself with her powerful voice a
	nd personal songwriting. She has been working on her music since her youth
	, which eventually brought her to Nashville. In 2021, she signed with RECO
	RDS Nashville, and a year later she impressed with her debut EP, 40 East.<
	/p><p>With over 100 million streams, her fanbase is growing rapidly! She h
	as written songs for big names like Dolly Parton and Sara Evans, confirmin
	g her status as a rising star. You can see the country star in our OZ on S
	unday, August 23!</p>
BEGIN:VALARM
ACTION:DISPLAY
DESCRIPTION:Erin Kinsey
TRIGGER:-PT1H
END:VALARM
END:VEVENT
END:VCALENDAR
