BEGIN:VCALENDAR
VERSION:2.0
CALSCALE:GREGORIAN
PRODID:adamgibbons/ics
METHOD:PUBLISH
X-PUBLISHED-TTL:PT1H
BEGIN:VEVENT
UID:21098@offbeat.amsterdam
SUMMARY:DYLISA
DTSTAMP:20260422T183658Z
DTSTART:20261003T183000Z
DESCRIPTION:Amsterdam-based artist moves between hip-hop\, R&B and melodic 
	pop
URL:https://offbeat.amsterdam/event/dylisa-2
GEO:52.36215535;4.883782439016489
LOCATION:Paradiso - Weteringschans 6\, 1017 SG Amsterdam
STATUS:CONFIRMED
CATEGORIES:amsterdam-centrum,leidseplein,rnb
X-ALT-DESC;FMTTYPE=text/html:Amsterdam-based artist moves between hip-hop, 
	R&B and melodic pop
BEGIN:VALARM
ACTION:DISPLAY
DESCRIPTION:DYLISA
TRIGGER:-PT1H
END:VALARM
END:VEVENT
END:VCALENDAR
