BEGIN:VCALENDAR
VERSION:2.0
CALSCALE:GREGORIAN
PRODID:adamgibbons/ics
METHOD:PUBLISH
X-PUBLISHED-TTL:PT1H
BEGIN:VEVENT
UID:21160@offbeat.amsterdam
SUMMARY:DYGL
DTSTAMP:20260424T193511Z
DTSTART:20260615T173000Z
DESCRIPTION:Indie rockband from Tokyo
URL:https://offbeat.amsterdam/event/dygl
GEO:52.36215535;4.883782439016489
LOCATION:Paradiso - Weteringschans 6\, 1017 SG Amsterdam
STATUS:CONFIRMED
CATEGORIES:amsterdam-centrum,indie,leidseplein,rock
X-ALT-DESC;FMTTYPE=text/html:Indie rockband from Tokyo
BEGIN:VALARM
ACTION:DISPLAY
DESCRIPTION:DYGL
TRIGGER:-PT1H
END:VALARM
END:VEVENT
END:VCALENDAR
