BEGIN:VCALENDAR
VERSION:2.0
CALSCALE:GREGORIAN
PRODID:adamgibbons/ics
METHOD:PUBLISH
X-PUBLISHED-TTL:PT1H
BEGIN:VEVENT
UID:21133@offbeat.amsterdam
SUMMARY:Dubbelleven. Geertruida Kapteyn-Muysken en haar rebelse levensfilos
	ofie
DTSTAMP:20260423T185509Z
DTSTART:20260611T180000Z
DESCRIPTION:De feestelijke boekpresentatie van Dubbelleven\, de biografie v
	an de radicale\ndenker Geertruida Kapteyn-Muysken door Maite Karssenberg. 
	Een avond met\nperformance\, poëzie en gesprekken\, met o.a. Christien Bri
	nkgreve\, Lotte Houwink\nten Cate\, Iduna Paalman en Rodante van der Waal.
	\n\nLet op: de locatie van dit programma is de Posthoornkerk.\n\nAls stude
	nt ontdekte Maite Karssenberg de dagboeken van Geertruida\nKapteyn-Muysken
	 (1855-1920) en die lieten haar niet meer los. Er volgde een\njarenlange z
	oektocht\, met als resultaat de biografie van een vrouw ten tijde van\nhet
	 fin de siècle en de eerste feministische golf\, die losbrak uit de\ntradi
	tionele mal van het vrouwenleven.\n\nTijdens deze avond bespreken we het r
	oerige leven van Geertruida in Nederland\,\nLonden en Zürich\, haar radica
	le ideeën en haar inzet voor meer vrijheid\,\ngelijkheid en solidariteit. 
	In haar voetspoor verkennen we hoe tijdens de eerste\nfeministische golf o
	nderwerpen als het huwelijk\, moederschap\, seksualiteit en de\ndubbele mo
	raal ter discussie kwamen te staan. We verkennen het belang van\n(vrouwen-
	)clubs en vriendschappen in die tijd\, en bespreken hoe Geertruida\nweerst
	and probeerde te bieden aan een wereld die steeds meer bedreigd werd door\
	nconservatieve krachten\, oorlog en nationalisme.\n\n\nSPREKERS\n\nChristi
	en Brinkgreve is emeritus hoogleraar Sociale Wetenschappen. Ze schrijft\no
	ver gedrag\, gevoel en moraal en bekijkt deze in de context van de tijd\,\
	nonderzoekt welke vaak verborgen eisen aan mensen worden gesteld en hoe ou
	de\npatronen doorwerken in het heden. Haar laatste boek is de veelgeprezen
	 memoire\nBeladen huis\, die onder meer werd genomineerd voor de NS Publie
	ksprijs.\n\nLotte Houwink ten Cate promoveerde op de tweede feministische 
	golf in New York\nen is als historicus werkzaam in Londen. Ze schrijft col
	umns voor de Volkskrant\,\nen essays en opiniestukken voor onder andere NR
	C en De Groene Amsterdammer. Van\nhaar hand verscheen eerder De mythe van 
	het gezin (Pluim\, 2024). Ze werkt aan\neen portret van de tweede feminist
	ische golf\, met een focus op de frictie tussen\nfeminisme en heteroseksua
	liteit.\n\nMaite Karssenberg is schrijver en historicus\, en werkt daarnaa
	st als\nprogrammamaker en interviewer. Eerder publiceerde ze Snijpunt Isfa
	han\, een\nreisverhaal. Ze studeerde cum laude af aan de Universiteit van 
	Amsterdam met een\nprijswinnende scriptie over de Londense jaren van Geert
	ruida Kapteyn-Muysken.\nDubbelleven is haar debuut als biograaf.\n\nIduna 
	Paalman is dichter en schrijver. In 2019 verscheen haar prijswinnende\npoë
	ziedebuut De grom uit de hond halen. In september 2022 kwam haar tweede\nb
	undel Bewijs van bewaring uit\, met daarin een gedichtenreeks gebaseerd op
	 het\nleven en werk van Geertruida Kapteyn-Muysken. De bundel werd bekroon
	d met de\nJ.C. Bloemprijs. Paalman schrijft naast poëzie ook proza\, tonee
	l en recensies.\n\nRodante van der Waal is filosoof\, dichter en vroedvrou
	w. Ze debuteerde in 2025\nmet haar filosofische essay Baas in eigen buik. 
	Een essay over reproductieve\nrechtvaardigheid\, dat werd genomineerd voor
	 de Socratesbeker. Begin 2026\nverscheen haar dichtbundel Op navelhoogte d
	e kans.\n\nEsther Ymkje van Steenis en Remy Meeuwsen zijn beide acteur en 
	theatermaker\,\nverbonden aan feministisch theatercollectief Blond & Cynis
	ch. Dit jaar speelden\nzij de voorstelling ‘No men beyond this point’\, ‘e
	en geweldig inventief\,\necofeministisch\, futuristisch en queer schouwspe
	l’ (de Theaterkrant). Hun vorige\nvoorstelling ‘Circusnachten’ was een bew
	erking van de gelijknamige\nmagisch-realistische roman van Angela Carter\,
	 die zich afspeelt in\nlaat-negentiende-eeuws Londen.
URL:https://offbeat.amsterdam/event/dubbelleven-geertruida-kapteyn-muysken-
	en-haar-rebelse-levensfilosofie
GEO:52.3685931;4.8896879
LOCATION:SPUI25 - Spui 25-27\, 1012 WX Amsterdam
STATUS:CONFIRMED
CATEGORIES:amsterdam-centrum,performance,poetry,queer,spui
X-ALT-DESC;FMTTYPE=text/html:<p>De feestelijke boekpresentatie van Dubbelle
	ven, de biografie van de radicale denker Geertruida Kapteyn-Muysken door M
	aite Karssenberg. Een avond met performance, poëzie en gesprekken, met o.a
	. Christien Brinkgreve, Lotte Houwink ten Cate, Iduna Paalman en Rodante v
	an der Waal. </p>       <strong>Let op: de locatie van dit programma is de
	 Posthoornkerk. </strong>  <p>Als student ontdekte Maite Karssenberg de da
	gboeken van Geertruida Kapteyn-Muysken (1855-1920) en die lieten haar niet
	 meer los. Er volgde een jarenlange zoektocht, met als resultaat de biogra
	fie van een vrouw ten tijde van het fin de siècle en de eerste feministisc
	he golf, die losbrak uit de traditionele mal van het vrouwenleven.  </p> <
	p>Tijdens deze avond bespreken we het roerige leven van Geertruida in Nede
	rland, Londen en Zürich, haar radicale ideeën en haar inzet voor meer vrij
	heid, gelijkheid en solidariteit. In haar voetspoor verkennen we hoe tijde
	ns de eerste feministische golf onderwerpen als het huwelijk, moederschap,
	 seksualiteit en de dubbele moraal ter discussie kwamen te staan. We verke
	nnen het belang van (vrouwen-)clubs en vriendschappen in die tijd, en besp
	reken hoe Geertruida weerstand probeerde te bieden aan een wereld die stee
	ds meer bedreigd werd door conservatieve krachten, oorlog en nationalisme.
	 </p> <h3><strong>Sprekers</strong></h3> <p><strong><em>Christien Brinkgre
	ve</em></strong> is emeritus hoogleraar Sociale Wetenschappen. Ze schrijft
	 over gedrag, gevoel en moraal en bekijkt deze in de context van de tijd, 
	onderzoekt welke vaak verborgen eisen aan mensen worden gesteld en hoe oud
	e patronen doorwerken in het heden. Haar laatste boek is de veelgeprezen m
	emoire <em>Beladen huis</em>, die onder meer werd genomineerd voor de NS P
	ublieksprijs. </p> <p><strong><em>Lotte Houwink ten Cate</em></strong> pro
	moveerde op de tweede feministische golf in New York en is als historicus 
	werkzaam in Londen. Ze schrijft columns voor <em>de Volkskrant</em>, en es
	says en opiniestukken voor onder andere <em>NRC</em> en <em>De Groene Amst
	erdammer</em>. Van haar hand verscheen eerder <em>De mythe van het gezin</
	em> (Pluim, 2024). Ze werkt aan een portret van de tweede feministische go
	lf, met een focus op de frictie tussen feminisme en heteroseksualiteit. </
	p> <p><strong><em>Maite Karssenberg</em></strong> is schrijver en historic
	us, en werkt daarnaast als programmamaker en interviewer. Eerder publiceer
	de ze <em>Snijpunt Isfahan</em>, een reisverhaal. Ze studeerde cum laude a
	f aan de Universiteit van Amsterdam met een prijswinnende scriptie over de
	 Londense jaren van Geertruida Kapteyn-Muysken. <em>Dubbelleven </em>is ha
	ar debuut als biograaf. </p> <p><strong><em>Iduna Paalman</em></strong> is
	 dichter en schrijver. In 2019 verscheen haar prijswinnende poëziedebuut <
	em>De grom uit de hond halen</em>. In september 2022 kwam haar tweede bund
	el <em>Bewijs van bewaring </em>uit, met daarin een gedichtenreeks gebasee
	rd op het leven en werk van Geertruida Kapteyn-Muysken. De bundel werd bek
	roond met de J.C. Bloemprijs. Paalman schrijft naast poëzie ook proza, ton
	eel en recensies. </p> <p><strong><em>Rodante van der Waal</em></strong> i
	s filosoof, dichter en vroedvrouw. Ze debuteerde in 2025 met haar filosofi
	sche essay<em> Baas in eigen buik. Een essay over reproductieve rechtvaard
	igheid, </em>dat werd genomineerd voor de Socratesbeker. Begin 2026 versch
	een haar dichtbundel <em>Op navelhoogte de kans</em>. </p> <p><strong><em>
	Esther Ymkje van Steenis en Remy Meeuwsen</em></strong> zijn beide acteur 
	en theatermaker, verbonden aan feministisch theatercollectief Blond &amp; 
	Cynisch. Dit jaar speelden zij de voorstelling ‘No men beyond this point’,
	 ‘een geweldig inventief, ecofeministisch, futuristisch en queer schouwspe
	l’ (<em>de Theaterkrant</em>). Hun vorige voorstelling ‘Circusnachten’ was
	 een bewerking van de gelijknamige magisch-realistische roman van Angela C
	arter, die zich afspeelt in laat-negentiende-eeuws Londen. </p>
BEGIN:VALARM
ACTION:DISPLAY
DESCRIPTION:Dubbelleven. Geertruida Kapteyn-Muysken en haar rebelse levensf
	ilosofie
TRIGGER:-PT1H
END:VALARM
END:VEVENT
END:VCALENDAR
