BEGIN:VCALENDAR
VERSION:2.0
CALSCALE:GREGORIAN
PRODID:adamgibbons/ics
METHOD:PUBLISH
X-PUBLISHED-TTL:PT1H
BEGIN:VEVENT
UID:20980@offbeat.amsterdam
SUMMARY:Drift X De Uitkijk
DTSTAMP:20260420T180530Z
DTSTART:20260420T190000Z
DESCRIPTION:De jaarlijkse samenwerking tussen De Uitkijk en Wijsgerig Festi
	val DRIFT is\nterug! Film & Filosofie brengt ditmaal de ruimte tussen droo
	m en daad in beeld.\nOp vier opeenvolgende maandagavonden nodigen wij je u
	it om de mysterieuze muur\ndie de ideeën van de werkelijkheid scheidt in k
	aart te brengen en te beklimmen\,\nof zelfs omver te werpen. Van gewelddad
	ige moord tot meditatieve bezinning\,\nalles passeert de revue bij het afl
	eggen van de afstand tussen droom en daad. En\ndat alles terwijl je rustig
	 achterover leunt in de zachte stoelen van het oude\nfilmtheater De Uitkij
	k.\n\nMore info here [https://uitkijk.nl/en/film/drift-ordinary-people]!
URL:https://offbeat.amsterdam/event/drift-x-de-uitkijk
GEO:52.36476;4.8843948
LOCATION:De Uitkijk - Prinsengracht 452\, 1017 KE Amsterdam
STATUS:CONFIRMED
CATEGORIES:amsterdam-centrum,festivals,film,leidseplein
X-ALT-DESC;FMTTYPE=text/html:<p>De jaarlijkse samenwerking tussen De Uitkij
	k en Wijsgerig Festival DRIFT is terug! Film &amp; Filosofie brengt ditmaa
	l de ruimte tussen droom en daad in beeld. Op vier opeenvolgende maandagav
	onden nodigen wij je uit om de mysterieuze muur die de ideeën van de werke
	lijkheid scheidt in kaart te brengen en te beklimmen, of zelfs omver te we
	rpen. Van gewelddadige moord tot meditatieve bezinning, alles passeert de 
	revue bij het afleggen van de afstand tussen droom en daad. En dat alles t
	erwijl je rustig achterover leunt in de zachte stoelen van het oude filmth
	eater De Uitkijk.</p><p><b>More info <a href="https://uitkijk.nl/en/film/d
	rift-ordinary-people">here</a>!</b></p>
BEGIN:VALARM
ACTION:DISPLAY
DESCRIPTION:Drift X De Uitkijk
TRIGGER:-PT1H
END:VALARM
END:VEVENT
END:VCALENDAR
