BEGIN:VCALENDAR
VERSION:2.0
CALSCALE:GREGORIAN
PRODID:adamgibbons/ics
METHOD:PUBLISH
X-PUBLISHED-TTL:PT1H
BEGIN:VEVENT
UID:21097@offbeat.amsterdam
SUMMARY:DIP: T-Party
DTSTAMP:20260422T184327Z
DTSTART:20260609T180000Z
DESCRIPTION:An evening at Paradiso on trans expression and pride\n\nT-Party
	 is back. For the second time\, this night brings together music and\ndanc
	e\, created and performed entirely by trans and nonbinary artists. Expect 
	an\nevening filled with fire and tenderness\, featuring bold performances 
	and\nintimate moments that reflect the beauty and complexity of trans live
	s. This\nedition captures a mix of voice\, silence\, and queer resistance.
	 Just like last\ntime\, when the sold-out event in Paradiso’s Bovenzaal of
	fered a stage for trans\ncreators and performers to share their stories on
	 their own terms\, T-Party\ncontinues to celebrate them.\n\nThis evening i
	s produced by Paradiso Melkweg Productiehuis in collaboration with\nParadi
	so.
URL:https://offbeat.amsterdam/event/dip-t-party
GEO:52.36215535;4.883782439016489
LOCATION:Paradiso - Weteringschans 6\, 1017 SG Amsterdam
STATUS:CONFIRMED
CATEGORIES:amsterdam-centrum,dance,leidseplein,music,party,performance,prid
	e,queer,stories
X-ALT-DESC;FMTTYPE=text/html:An evening at Paradiso on trans expression and
	 pride<br><br><p>T-Party is back. For the second time, this night brings t
	ogether music and dance, created and performed entirely by trans and nonbi
	nary artists. Expect an evening filled with fire and tenderness, featuring
	 bold performances and intimate moments that reflect the beauty and comple
	xity of trans lives. This edition captures a mix of voice, silence, and qu
	eer resistance. Just like last time, when the sold-out event in Paradiso’s
	 Bovenzaal offered a stage for trans creators and performers to share thei
	r stories on their own terms, T-Party continues to celebrate them.</p><p>T
	his evening is produced by <strong>Paradiso Melkweg Productiehuis</strong>
	 in collaboration with Paradiso.</p>
BEGIN:VALARM
ACTION:DISPLAY
DESCRIPTION:DIP: T-Party
TRIGGER:-PT1H
END:VALARM
END:VEVENT
END:VCALENDAR
