BEGIN:VCALENDAR
VERSION:2.0
CALSCALE:GREGORIAN
PRODID:adamgibbons/ics
METHOD:PUBLISH
X-PUBLISHED-TTL:PT1H
BEGIN:VEVENT
UID:21132@offbeat.amsterdam
SUMMARY:Destrucción
DTSTAMP:20260423T190513Z
DTSTART:20260522T215900Z
DTEND:20260523T030000Z
DESCRIPTION:Destrucción is a curated party series by Safety Trance aka Card
	opusher\, built as\na space for exploring the outer edges of his musical u
	niverse. Rather than\nfocusing on genres\, the project is guided by instin
	ct\, bringing together sounds\nthat collide\, mutate\, and resist easy cat
	egorization.\n\nEach edition reflects a personal selection of artists and 
	energy: from\nhigh-intensity club mutations to experimental rhythms and un
	expected crossovers.\nThe throughline is not style\, but intention\, music
	 that feels urgent\, visceral\,\nand forward-thinking.\n\nFor its Amsterda
	m edition\, Destrucción continues this approach\, assembling a\nlineup tha
	t moves fluidly between scenes and sensibilities\, creating a night\nwhere
	 contrasts coexist and boundaries dissolve.\n\n\nLINE-UP\n\nSafety Trance 
	https://soundcloud.com/cardopusher Standing at the cutting edge of\nelectr
	onic music\, Venezuelan producer Luis Garban is more than just the prodigy
	\nof his country’s legendary underground scene. A key producer behind some
	 of the\nmost innovative and avant-garde music of recent years\, the Barce
	lona-based\nartist operates at the intersection of two distinct sonic worl
	ds. Appearing in\nthe scene in the 2000s\, he has dominated the warehouse 
	circuit with the\nindustrial\, techno-forward aggression of Cardopusher fo
	r years. At the same time\nhe has been developing another sound as Safety 
	Trance\, rewiring the DNA of Latin\nclub music by offering an experimental
	 take on reggaeton that has captivated\naudiences worldwide. After achievi
	ng acclaim as the architect of soundscapes by\nvisionary acts like GRAMMY-
	nominated longtime colleague Arca and positioning\nhimself at the forefron
	t of a new wave of Latin experimental electronica\, Garban\nis set to furt
	her define himself with sacrificio. His latest full-length album\nas Safet
	y Trance brings together old and new collaborators to explore absolution\n
	and transmutation at the club. Gabber Eleganza Sukubratz\nhttps://soundclo
	ud.com/suku-bratz Sukubratz will warm you up with a club\nreggaeton select
	ion from the Internet world. Expect hot remixes for ass shaking\nactivitie
	s. Slimfit\n\nPlease familiarise yourself with the House Rules\n[https://p
	arallel.am/house-rules] prior to arrival to help keep Parallel a safe\nspa
	ce where people feel free to be their entire selves.
URL:https://offbeat.amsterdam/event/destruccion
GEO:52.3833541;4.9036483
LOCATION:Parallel - Buiksloterweg 5C\, 1031 CC Amsterdam
STATUS:CONFIRMED
CATEGORIES:amsterdam-noord,buiksloterweg,electronics,experimental,music,par
	ty,techno
X-ALT-DESC;FMTTYPE=text/html:<p>Destrucción is a curated party series by Sa
	fety Trance aka Cardopusher, built as a space for exploring the outer edge
	s of his musical universe. Rather than focusing on genres, the project is 
	guided by instinct, bringing together sounds that collide, mutate, and res
	ist easy categorization.</p><p>Each edition reflects a personal selection 
	of artists and energy: from high-intensity club mutations to experimental 
	rhythms and unexpected crossovers. The throughline is not style, but inten
	tion, music that feels urgent, visceral, and forward-thinking.</p><p>For i
	ts Amsterdam edition, Destrucción continues this approach, assembling a li
	neup that moves fluidly between scenes and sensibilities, creating a night
	 where contrasts coexist and boundaries dissolve.</p> <h3>Line-up</h3>    
	Safety Trance  <a href="https://soundcloud.com/cardopusher" target="_blank
	"></a>     Standing at the cutting edge of electronic music, Venezuelan pr
	oducer Luis Garban is more than just the prodigy of his country’s legendar
	y underground scene. A key producer behind some of the most innovative and
	 avant-garde music of recent years, the Barcelona-based artist operates at
	 the intersection of two distinct sonic worlds. Appearing in the scene in 
	the 2000s, he has dominated the warehouse circuit with the industrial, tec
	hno-forward aggression of Cardopusher for years. At the same time he has b
	een developing another sound as Safety Trance, rewiring the DNA of Latin c
	lub music by offering an experimental take on reggaeton that has captivate
	d audiences worldwide. After achieving acclaim as the architect of soundsc
	apes by visionary acts like GRAMMY-nominated longtime colleague Arca and p
	ositioning himself at the forefront of a new wave of Latin experimental el
	ectronica, Garban is set to further define himself with sacrificio. His la
	test full-length album as Safety Trance brings together old and new collab
	orators to explore absolution and transmutation at the club.      Gabber E
	leganza     Sukubratz  <a href="https://soundcloud.com/suku-bratz" target=
	"_blank"></a>     Sukubratz will warm you up with a club reggaeton selecti
	on from the Internet world. Expect hot remixes for ass shaking activities.
	      Slimfit    <p>Please familiarise yourself with the <a target="_blank
	" href="https://parallel.am/house-rules">House Rules</a> prior to arrival 
	to help keep Parallel a safe space where people feel free to be their enti
	re selves.</p>
BEGIN:VALARM
ACTION:DISPLAY
DESCRIPTION:Destrucción
TRIGGER:-PT1H
END:VALARM
END:VEVENT
END:VCALENDAR
