BEGIN:VCALENDAR
VERSION:2.0
CALSCALE:GREGORIAN
PRODID:adamgibbons/ics
METHOD:PUBLISH
X-PUBLISHED-TTL:PT1H
BEGIN:VEVENT
UID:21046@offbeat.amsterdam
SUMMARY:Dear Omen
DTSTAMP:20260421T183241Z
DTSTART:20260618T173000Z
DESCRIPTION:EP-releaseshow from dark goth trio
URL:https://offbeat.amsterdam/event/dear-omen
GEO:52.36215535;4.883782439016489
LOCATION:Paradiso - Weteringschans 6\, 1017 SG Amsterdam
STATUS:CONFIRMED
CATEGORIES:amsterdam-centrum,leidseplein
X-ALT-DESC;FMTTYPE=text/html:EP-releaseshow from dark goth trio
BEGIN:VALARM
ACTION:DISPLAY
DESCRIPTION:Dear Omen
TRIGGER:-PT1H
END:VALARM
END:VEVENT
END:VCALENDAR
