BEGIN:VCALENDAR
VERSION:2.0
CALSCALE:GREGORIAN
PRODID:adamgibbons/ics
METHOD:PUBLISH
X-PUBLISHED-TTL:PT1H
BEGIN:VEVENT
UID:21157@offbeat.amsterdam
SUMMARY:De stilte van Europa
DTSTAMP:20260424T193508Z
DTSTART:20260520T180000Z
DESCRIPTION:Europa’s rol bij het internationaal recht en conflicten in Zuid
	west-Azië.\n\nIn dit programma nemen we de rol van Europa in het Midden-Oo
	sten (Zuidwest-Azië)\nonder de loep. Terwijl de Verenigde Staten en Israël
	 het internationaal recht\nherhaaldelijk schenden\, blijft Europa opvallen
	d stil en afwachtend. Hoe\ngeloofwaardig is Europa nog als verdediger van 
	het internationaal recht en de\nzogenoemde ‘op regels gebaseerde’ wereldor
	de\, wanneer het niet optreedt bij\nevidente schendingen? Moet Europa niet
	 veel krachtiger stelling nemen wanneer\nbondgenoten het recht overtreden 
	en oorlogsmisdaden begaan? Wat vraagt dat van\nEuropa – diplomatiek\, poli
	tiek en moreel? En hoe wordt Europa wereldwijd gezien\nnu het niet ingrijp
	t bij zichtbare misstanden in onder meer Palestina\, Libanon\nen Iran? Tij
	dens dit programma gaan we met bijzondere sprekers in gesprek over\nde ver
	antwoordelijkheid van Europa in een situatie waarin wegkijken allang geen\
	noptie meer is.\n\nMet in dit programma Marieke de Hoon Universitair hoofd
	docent internationaal\nstrafrecht aan de Universiteit van Amsterdam\n[http
	s://www.linkedin.com/in/marieke-de-hoon-95b7399/?originalSubdomain=nl]\nEr
	win van Veen Team lead and senior research fellow at the Clingendael Insti
	tute\n[https://www.linkedin.com/in/erwinvanveen/]
URL:https://offbeat.amsterdam/event/de-stilte-van-europa
GEO:52.376857;4.9220756
LOCATION:Pakhuis de Zwijger - Piet Heinkade 179\, 1019 HC Amsterdam
STATUS:CONFIRMED
CATEGORIES:amsterdam-centrum,democratie,eastern docklands
X-ALT-DESC;FMTTYPE=text/html:Europa’s rol bij het internationaal recht en c
	onflicten in Zuidwest-Azië. <p>In dit programma nemen we de rol van Europa
	 in het Midden-Oosten (Zuidwest-Azië) onder de loep. Terwijl de Verenigde 
	Staten en Israël het internationaal recht herhaaldelijk schenden, blijft E
	uropa opvallend stil en afwachtend. Hoe geloofwaardig is Europa nog als ve
	rdediger van het internationaal recht en de zogenoemde ‘op regels gebaseer
	de’ wereldorde, wanneer het niet optreedt bij evidente schendingen? Moet E
	uropa niet veel krachtiger stelling nemen wanneer bondgenoten het recht ov
	ertreden en oorlogsmisdaden begaan? Wat vraagt dat van Europa – diplomatie
	k, politiek en moreel? En hoe wordt Europa wereldwijd gezien nu het niet i
	ngrijpt bij zichtbare misstanden in onder meer Palestina, Libanon en Iran?
	 Tijdens dit programma gaan we met bijzondere sprekers in gesprek over de 
	verantwoordelijkheid van Europa in een situatie waarin wegkijken allang ge
	en optie meer is.</p>    Met in dit programma  <a href="https://www.linked
	in.com/in/marieke-de-hoon-95b7399/?originalSubdomain=nl" target="_blank"> 
	 Marieke de Hoon Universitair hoofddocent internationaal strafrecht aan de
	 Universiteit van Amsterdam  </a> <a href="https://www.linkedin.com/in/erw
	invanveen/" target="_blank">  Erwin van Veen Team lead and senior research
	 fellow at the Clingendael Institute  </a>
BEGIN:VALARM
ACTION:DISPLAY
DESCRIPTION:De stilte van Europa
TRIGGER:-PT1H
END:VALARM
END:VEVENT
END:VCALENDAR
