BEGIN:VCALENDAR
VERSION:2.0
CALSCALE:GREGORIAN
PRODID:adamgibbons/ics
METHOD:PUBLISH
X-PUBLISHED-TTL:PT1H
BEGIN:VEVENT
UID:21005@offbeat.amsterdam
SUMMARY:De Laatste Mens audiotour + vooroudergesprek
DTSTAMP:20260420T193341Z
DTSTART:20260520T173000Z
DESCRIPTION:De Laatste Mens – Audiowandeling & Vooroudergesprekken\n\nWat a
	ls jij de laatste mens op aarde was? De Laatste Mens is een mixed-reality\
	nervaring in twee delen. Het eerste deel is een audiowandeling van zo'n 40
	\nminuten door de tuin. Met behulp van je telefoon word je de hoofdpersoon
	 in een\nmogelijke toekomst\, omringd door bomen\, dieren en technologie. 
	Stap voor stap\nherontdek je jezelf in een wereld zonder vertrouwde social
	e structuren. De\ndramaturgie is geïnspireerd op de Aziatische vertelstruc
	tuur Kishōtenketsu\,\nwaarin een onverwachte wending je perspectief kantel
	t. Neem oortjes of een\nkoptelefoon mee!\n\nHet tweede deel is een gezamen
	lijk gesprek over verleden\, toekomst en goed\nvoorouderschap. Hoe kan je 
	een goede voorouder zijn? Persoonlijke herinneringen\nen voorouderverhalen
	 worden verbonden aan grotere thema's zoals duurzaamheid\,\nongelijkheid e
	n polarisatie. Het gesprek is niet gericht op debat\, maar op\nluisteren\,
	 herkennen en gezamenlijk betekenis geven. De bijeenkomst duurt\nongeveer 
	1\,5 uur en wordt geleid door theatermaker en schrijver Petra Ardai\, in\n
	een warme sfeer met ruimte voor verbeelding en persoonlijk verhaal.\n\nSPA
	CE maakt documentair theater\, interactieve games\, living heritage tours 
	en\ninstallaties in de openbare ruimte. Onze projecten balanceren op de gr
	ens van\nfictie en werkelijkheid\, waarbij we uitgaan van de politiek van 
	het\npersoonlijke. Telkens stellen we de vraag: ‘Wat als dit ons overkwam\
	, wat zouden\nwe in die situatie doen?’
URL:https://offbeat.amsterdam/event/de-laatste-mens-audiotour-vooroudergesp
	rek
GEO:52.3830883;4.9030297
LOCATION:Tolhuistuin - IJpromenade 2\, 1031 KT Amsterdam
STATUS:CONFIRMED
CATEGORIES:amsterdam-noord,buiksloterweg,games,theater
X-ALT-DESC;FMTTYPE=text/html:<p>De Laatste Mens – Audiowandeling &amp; Voor
	oudergesprekken</p><p>Wat als jij de laatste mens op aarde was? De Laatste
	 Mens is een mixed-reality ervaring in twee delen. Het eerste deel is een 
	audiowandeling van zo'n 40 minuten door de tuin. Met behulp van je telefoo
	n word je de hoofdpersoon in een mogelijke toekomst, omringd door bomen, d
	ieren en technologie. Stap voor stap herontdek je jezelf in een wereld zon
	der vertrouwde sociale structuren. De dramaturgie is geïnspireerd op de Az
	iatische vertelstructuur Kishōtenketsu, waarin een onverwachte wending je 
	perspectief kantelt. Neem oortjes of een koptelefoon mee! </p><p>Het tweed
	e deel is een gezamenlijk gesprek over verleden, toekomst en goed vooroude
	rschap. Hoe kan je een goede voorouder zijn? Persoonlijke herinneringen en
	 voorouderverhalen worden verbonden aan grotere thema's zoals duurzaamheid
	, ongelijkheid en polarisatie. Het gesprek is niet gericht op debat, maar 
	op luisteren, herkennen en gezamenlijk betekenis geven. De bijeenkomst duu
	rt ongeveer 1,5 uur en wordt geleid door theatermaker en schrijver Petra A
	rdai, in een warme sfeer met ruimte voor verbeelding en persoonlijk verhaa
	l.</p><p>SPACE maakt documentair theater, interactieve games, living herit
	age tours en installaties in de openbare ruimte. Onze projecten balanceren
	 op de grens van fictie en werkelijkheid, waarbij we uitgaan van de politi
	ek van het persoonlijke. Telkens stellen we de vraag: ‘Wat als dit ons ove
	rkwam, wat zouden we in die situatie doen?’</p>
BEGIN:VALARM
ACTION:DISPLAY
DESCRIPTION:De Laatste Mens audiotour + vooroudergesprek
TRIGGER:-PT1H
END:VALARM
END:VEVENT
END:VCALENDAR
