BEGIN:VCALENDAR
VERSION:2.0
CALSCALE:GREGORIAN
PRODID:adamgibbons/ics
METHOD:PUBLISH
X-PUBLISHED-TTL:PT1H
BEGIN:VEVENT
UID:20988@offbeat.amsterdam
SUMMARY:De bondgenoten van Europa
DTSTAMP:20260420T192745Z
DTSTART:20260527T180000Z
DESCRIPTION:Welke vrienden heeft Europa in de huidige wereldorde?\n\nGoede 
	vrienden en trouwe bondgenoten zijn essentieel in een wereld waarin\ninvlo
	edssferen en machtspolitiek steeds bepalender worden. Nu onze traditionele
	\nbondgenoot\, de Verenigde Staten\, niet meer aan onze zijde staat\, is E
	uropa\nnadrukkelijk op zoek naar nieuwe partners. In 2026 sloot de EU daar
	om al\nhandelsakkoorden met India\, Australië en een samenwerkingsverband 
	van\nZuid-Amerikaanse landen. Tegelijkertijd is Europa meer dan alleen een
	 economisch\nUnie. Het beschermen van de rechtsstaat en de democratie beho
	ort ook tot haar\nkernopdrachten. Maar hoe verenigen we deze waarden – en 
	de zoektocht naar nieuwe\npartners – met een wereld die in toenemende mate
	 autocratisch wordt? En welke\nbondgenoten blijven er dan in de toekomst n
	og over? Praat op 27 mei mee in\nPakhuis de Zwijger.\n\nMet in dit program
	ma Anna-Alexandra Marhold Director LL.M Public International\nLaw | Assist
	ant Professor at Grotius Centre for International Legal Studies\,\nLeiden 
	Law School [https://www.linkedin.com/in/annamarhold/]
URL:https://offbeat.amsterdam/event/de-bondgenoten-van-europa
GEO:52.376857;4.9220756
LOCATION:Pakhuis de Zwijger - Piet Heinkade 179\, 1019 HC Amsterdam
STATUS:CONFIRMED
CATEGORIES:amsterdam-centrum,democratie,eastern docklands
X-ALT-DESC;FMTTYPE=text/html:Welke vrienden heeft Europa in de huidige were
	ldorde? <p>Goede vrienden en trouwe bondgenoten zijn essentieel in een wer
	eld waarin invloedssferen en machtspolitiek steeds bepalender worden. Nu o
	nze traditionele bondgenoot, de Verenigde Staten, niet meer aan onze zijde
	 staat, is Europa nadrukkelijk op zoek naar nieuwe partners. In 2026 sloot
	 de EU daarom al handelsakkoorden met India, Australië en een samenwerking
	sverband van Zuid-Amerikaanse landen. Tegelijkertijd is Europa meer dan al
	leen een economisch Unie. Het beschermen van de rechtsstaat en de democrat
	ie behoort ook tot haar kernopdrachten. Maar hoe verenigen we deze waarden
	 – en de zoektocht naar nieuwe partners – met een wereld die in toenemende
	 mate autocratisch wordt? En welke bondgenoten blijven er dan in de toekom
	st nog over? Praat op 27 mei mee in Pakhuis de Zwijger.</p>    Met in dit 
	programma  <a href="https://www.linkedin.com/in/annamarhold/" target="_bla
	nk">  Anna-Alexandra Marhold Director LL.M Public International Law | Assi
	stant Professor at Grotius Centre for International Legal Studies, Leiden 
	Law School  </a>
BEGIN:VALARM
ACTION:DISPLAY
DESCRIPTION:De bondgenoten van Europa
TRIGGER:-PT1H
END:VALARM
END:VEVENT
END:VCALENDAR
