BEGIN:VCALENDAR
VERSION:2.0
CALSCALE:GREGORIAN
PRODID:adamgibbons/ics
METHOD:PUBLISH
X-PUBLISHED-TTL:PT1H
BEGIN:VEVENT
UID:20959@offbeat.amsterdam
SUMMARY:CvA Oboes in concert!
DTSTAMP:20260419T190510Z
DTSTART:20260608T163000Z
DESCRIPTION:Oboe Class of the Conservatorium van Amsterdam\n\nWith exams be
	hind them and the summer holidays just around the corner\, this is\nthe pe
	rfect moment to spotlight today’s young oboe talents. The international\no
	boe class of Aisling Casey and Miriam Pastor Burgos presents a varied prog
	ram\nranging from Baroque to contemporary music\, in a wide range of ensem
	ble\nsettings.\n\nMember concert\nSplendor can only be the independent and
	 free hub that it is\, thanks to the\nmembers who support us. We pay them 
	back with our specialty: music. Every year\,\nall Splendor musicians play 
	one concert that's free for this crucial group to\nwhom Splendor owes its 
	everyday existence. Combined with many other events\, this\nmeans that our
	 members have free entrance to over 50 concerts a year for €9\,99\np/m (an
	d €4\,99 p/m for minima and students!) – and receive a discount for all\no
	ther concerts. Pretty good deal\, right?\n\nThe members enable Splendor to
	 remain independent\, which is the only way to\nsecure real freedom in pro
	gramming\, experimentation\, risk-taking and the\npromotion of young\, upc
	oming artists. If you can think of another place without\na central progra
	mming\, where last-minute concerts can be planned any moment\,\nwhere ther
	e is no backstage and artists and audience are constantly mingling and\nha
	nging out at the bar\, where mysterious creative outbursts can be presente
	d\nthat are often labeled 'too risky' elsewhere\, and that still guarantee
	s high\nquality by unleashing the best of The Netherlands' music scene in 
	this creative\nplayground – you get a free membership!\n\nWould you rather
	 just visit this concert without becoming a member? You're more\nthan welc
	ome! Buy your ticket(s) below.
URL:https://offbeat.amsterdam/event/cva-oboes-in-concert
GEO:52.3699078;4.9032848
LOCATION:Splendor - Nieuwe Uilenburgerstraat 116\, 1011 LX Amsterdam
STATUS:CONFIRMED
CATEGORIES:amsterdam-centrum,classes,concert,music,nieuwmarkt/lastage
X-ALT-DESC;FMTTYPE=text/html:Oboe Class of the Conservatorium van Amsterdam
	 <p>With exams behind them and the summer holidays just around the corner,
	 this is the perfect moment to spotlight today’s young oboe talents. The i
	nternational oboe class of Aisling Casey and Miriam Pastor Burgos presents
	 a varied program ranging from Baroque to contemporary music, in a wide ra
	nge of ensemble settings.</p><p><strong>Member concert</strong><br><em>Spl
	endor can only be the independent and free hub that it is, thanks to the m
	embers who support us. We pay them back with our specialty: music. Every y
	ear, all Splendor musicians play one concert that's free for this crucial 
	group to whom Splendor owes its everyday existence. Combined with many oth
	er events, this means that our members have free entrance to over 50 conce
	rts a year for €9,99 p/m (and €4,99 p/m for minima and students!) – and re
	ceive a discount for all other concerts. Pretty good deal, right?</em></p>
	<p><em>The members enable Splendor to remain independent, which is the onl
	y way to secure real freedom in programming, experimentation, risk-taking 
	and the promotion of young, upcoming artists. If you can think of another 
	place without a central programming, where last-minute concerts can be pla
	nned any moment, where there is no backstage and artists and audience are 
	constantly mingling and hanging out at the bar, where mysterious creative 
	outbursts can be presented that are often labeled 'too risky' elsewhere, a
	nd that still guarantees high quality by unleashing the best of The Nether
	lands' music scene in this creative playground – you get a free membership
	!</em></p><p><em>Would you rather just visit this concert without becoming
	 a member? You're more than welcome! Buy your ticket(s) below.</em></p>
BEGIN:VALARM
ACTION:DISPLAY
DESCRIPTION:CvA Oboes in concert!
TRIGGER:-PT1H
END:VALARM
END:VEVENT
END:VCALENDAR
