BEGIN:VCALENDAR
VERSION:2.0
CALSCALE:GREGORIAN
PRODID:adamgibbons/ics
METHOD:PUBLISH
X-PUBLISHED-TTL:PT1H
BEGIN:VEVENT
UID:20343@offbeat.amsterdam
SUMMARY:Cruising from a crip perspective
DTSTAMP:20260421T105721Z
DTSTART:20260401T160000Z
DTEND:20260401T170000Z
DESCRIPTION:Join this hybrid talk on cruising from a crip perspective by ar
	tists Menko\nDijksterhuis & Robert Andy Coombs (online). Due to limited sp
	ace in our gallery\nand to make the event more accessible\, we’re hosting 
	the discussion via\nInstagram Live. Bring your own mobile and earphones if
	 you’re attending in\nperson\, or join us online from the comfort of your 
	own home.\n\nMenko (he/him) is a mixed media artist based in Amsterdam. Th
	rough his art he\ncritically examines societal systems and juxtaposes it w
	ith proposing a future\nin which every-body and perspective is being taken
	 in and celebrated. With it\,\nhe strives to craft a narrative that explor
	es the nuanced and delicate interplay\nof visibility and invisibility\, of
	ten within the themes of disability and\nsexuality\, hoping to invite you 
	to engage in introspection and dialogue.\n\nRobert Andy Coombs is a contem
	porary queer and disabled photographer whose work\nexplores intimacy\, des
	ire\, embodiment\, and public space from the perspective of\na power wheel
	chair user. His work documents queer sexuality\, intimacy\, Pride\nculture
	\, and public space through lived disability experience\, positioning his\
	npractice within disability aesthetics and queer visual culture. His photo
	graphs\nare exhibited internationally and are referenced by curators\, wri
	ters\, and\nacademics in discussions of contemporary queer photography and
	 disability art.\n\nSign in here\n[https://www.eventbrite.nl/events/198536
	2291057/dashboard/?eid=1985362291057&_gl=1%2A1h2kyo8%2A_up%2AMQ..%2A_ga%2A
	OTIwNDc4ODc3LjE3NzQzNjI2MTY.%2A_ga_TQVES5V6SH%2AczE3NzQzNjI2MTYkbzEkZzEkdD
	E3NzQzNjMwODQkajYwJGwwJGgw]
URL:https://offbeat.amsterdam/event/cruising-from-a-crip-perspective-1
GEO:52.3737472;4.8971636
LOCATION:No Limits! Art Castle - Sint Annendwarsstraat 9C\, 1012 HC Amsterd
	am
STATUS:CONFIRMED
CATEGORIES:amsterdam-centrum,discussion,exhibition,live,oude kerk,pride,que
	er,talk
X-ALT-DESC;FMTTYPE=text/html:<p>Join this hybrid talk on cruising from a cr
	ip perspective by artists <strong>Menko Dijksterhuis</strong> &amp; <stron
	g>Robert Andy Coombs</strong> (online). Due to limited space in our galler
	y and to make the event more accessible, we’re hosting the discussion via 
	Instagram Live. Bring your own mobile and earphones if you’re attending in
	 person, or join us online from the comfort of your own home. </p> <p><str
	ong>Menko</strong> (he/him) is a mixed media artist based in Amsterdam. Th
	rough his art he critically examines societal systems and juxtaposes it wi
	th proposing a future in which every-body and perspective is being taken i
	n and celebrated. With it, he strives to craft a narrative that explores t
	he nuanced and delicate interplay of visibility and invisibility, often wi
	thin the themes of disability and sexuality, hoping to invite you to engag
	e in introspection and dialogue. </p>  <p><strong>Robert Andy Coombs</stro
	ng> is a contemporary queer and disabled photographer whose work explores 
	intimacy, desire, embodiment, and public space from the perspective of a p
	ower wheelchair user. His work documents queer sexuality, intimacy, Pride 
	culture, and public space through lived disability experience, positioning
	 his practice within disability aesthetics and queer visual culture. His p
	hotographs are exhibited internationally and are referenced by curators, w
	riters, and academics in discussions of contemporary queer photography and
	 disability art. </p> <p><a target="_blank" href="https://www.eventbrite.n
	l/events/1985362291057/dashboard/?eid=1985362291057&amp;_gl=1%2A1h2kyo8%2A
	_up%2AMQ..%2A_ga%2AOTIwNDc4ODc3LjE3NzQzNjI2MTY.%2A_ga_TQVES5V6SH%2AczE3NzQ
	zNjI2MTYkbzEkZzEkdDE3NzQzNjMwODQkajYwJGwwJGgw"><strong>Sign in here</stron
	g></a></p>
BEGIN:VALARM
ACTION:DISPLAY
DESCRIPTION:Cruising from a crip perspective
TRIGGER:-PT1H
END:VALARM
END:VEVENT
END:VCALENDAR
