BEGIN:VCALENDAR
VERSION:2.0
CALSCALE:GREGORIAN
PRODID:adamgibbons/ics
METHOD:PUBLISH
X-PUBLISHED-TTL:PT1H
BEGIN:VEVENT
UID:21231@offbeat.amsterdam
SUMMARY:Community Gathering & Dialogue: The Situation in Iran
DTSTAMP:20260425T181108Z
DTSTART:20260512T150000Z
DTEND:20260512T173000Z
DESCRIPTION:The Central Diversity Office at the University of Amsterdam is 
	organising a\nsupportive event for students and staff who are affected by 
	the war in Iran. The\ngathering aims to create space for reflection\, dial
	ogue\, and mutual support\nduring a time of uncertainty and concern.\n\nPr
	actical information\nThe event is open to all University of Amsterdam stud
	ents and staff.\nLocation: VOX-POP\nTime: 17:00 – 19:30\n\nYou will be ask
	ed to show your student or staff ID card upon entry.
URL:https://offbeat.amsterdam/event/community-gathering-and-dialogue-the-si
	tuation-in-iran-1
GEO:52.3690637;4.894763
LOCATION:VOX-POP - Binnengasthuisstraat 9\, 1012 ZA Amsterdam
STATUS:CONFIRMED
CATEGORIES:amsterdam-centrum,burgwallen,community
X-ALT-DESC;FMTTYPE=text/html:The Central Diversity Office at the University
	 of Amsterdam is organising a supportive event for students and staff who 
	are affected by the war in Iran. The gathering aims to create space for re
	flection, dialogue, and mutual support during a time of uncertainty and co
	ncern.       <p><strong>Practical information</strong><br> The event is op
	en to all University of Amsterdam students and staff. <br> Location: VOX-P
	OP<br> Time: 17:00 – 19:30</p> <p>You will be asked to show your student o
	r staff ID card upon entry.</p>
BEGIN:VALARM
ACTION:DISPLAY
DESCRIPTION:Community Gathering & Dialogue: The Situation in Iran
TRIGGER:-PT1H
END:VALARM
END:VEVENT
END:VCALENDAR
