BEGIN:VCALENDAR
VERSION:2.0
CALSCALE:GREGORIAN
PRODID:adamgibbons/ics
METHOD:PUBLISH
X-PUBLISHED-TTL:PT1H
BEGIN:VEVENT
UID:21137@offbeat.amsterdam
SUMMARY:Comedy night with Greg Shapiro
DTSTAMP:20260423T201728Z
DTSTART:20260430T180000Z
DESCRIPTION:April 30th we will have us some Giggles in the vondelbunker.\nA
	 Tryout or sneakpreview of\nGreg Shapiro's King Me\n\nIn 2026\, on the 4th
	 of July\, the USA celebrates 250 years of independence – by\nbringing bac
	k the King. With Donald Trump in power\, it feels like it’s been 250\nyear
	s. "What a perfect time for another American Revolution\," says\nDutch-Ame
	rican comedian Greg Shapiro.\n\nIn preparation for his NL tour in the fall
	 of 2026\, Greg Shapiro presents a\ntryout of this Work-in-Progress.\n\nTH
	EATERKRANT ‘Flawless impersonator… Extraordinarily funny… Shapiro responde
	d\n(…) like a master improviser…Sharp satire of Trump’s America’\nARTS TAL
	K MAGAZINE ‘A very sharp and dangerous edge’\n\nGreg Shapiro is one of the
	 originals at Boom Chicago theatre in Amsterdam. He\nhas hosted Comedy Cen
	tral News on Comedy Central Netherlands\, and he has\nappeared on BNR\, BN
	N-VARA\, VPRO & ZDF (in Germany). And yes\, he is known as the\nvoice of T
	rump in the ‘Netherlands Second’ viral video with over 50 million\nviews. 
	As author\, Greg has written books such as How to Be Dutch: the Quiz and\n
	The American Netherlander: 25 Years of Expat Tales.\n\nThe American Nether
	lander Greg Shapiro will also help you prepare for the US\nMidterm electio
	ns in November 2026 – if they are even allowed to happen this\ntime. And s
	ince Shapiro is known for his Trump impression\, will he be allowed\nback 
	into his country of birth? Or will he be disappeared by ICE?)\n\nWith two 
	support acts!\nAkos \nRami \n\ncome have a seat and have a laugh.\nour doo
	rs open at 20:00.\nand as always free entry\, unless you bring a shit atti
	tude\, homophobia\,\ntransphobia rascism\, sexism etc.\n\nbring cash to do
	nate!\nsee you then!\n\nhttps://gregshapiro.nl/ [https://gregshapiro.nl/]
URL:https://offbeat.amsterdam/event/comedy-night-with-greg-shapiro
GEO:52.3608111;4.8770451
LOCATION:Vondelbunker - Vondelpark 8A\, 1071 AA Amsterdam
STATUS:CONFIRMED
CATEGORIES:amsterdam-west,books,comedy,meeting,quiz,talk,theater,vondelpark
	buurt
X-ALT-DESC;FMTTYPE=text/html:<p>April 30th we will have us some Giggles in 
	the vondelbunker.<br>A Tryout or sneakpreview of<br>Greg Shapiro's King Me
	<br><br>In 2026, on the 4th of July, the USA celebrates 250 years of indep
	endence – by bringing back the King. With Donald Trump in power, it feels 
	like it’s been 250 years. "What a perfect time for another American Revolu
	tion," says Dutch-American comedian Greg Shapiro.<br><br>In preparation fo
	r his NL tour in the fall of 2026, Greg Shapiro presents a tryout of this 
	Work-in-Progress.<br><br>THEATERKRANT ‘Flawless impersonator… Extraordinar
	ily funny… Shapiro responded (…) like a master improviser…Sharp satire of 
	Trump’s America’<br>ARTS TALK MAGAZINE ‘A very sharp and dangerous edge’<b
	r><br>Greg Shapiro is one of the originals at Boom Chicago theatre in Amst
	erdam. He has hosted Comedy Central News on Comedy Central Netherlands, an
	d he has appeared on BNR, BNN-VARA, VPRO &amp; ZDF (in Germany). And yes, 
	he is known as the voice of Trump in the ‘Netherlands Second’ viral video 
	with over 50 million views. As author, Greg has written books such as How 
	to Be Dutch: the Quiz and The American Netherlander: 25 Years of Expat Tal
	es.<br><br>The American Netherlander Greg Shapiro will also help you prepa
	re for the US Midterm elections in November 2026 – if they are even allowe
	d to happen this time. And since Shapiro is known for his Trump impression
	, will he be allowed back into his country of birth? Or will he be disappe
	ared by ICE?)<br><br>With two support acts!<br>Akos&nbsp;<br>Rami&nbsp;<br
	><br>come have a seat and have a laugh.<br>our doors open at 20:00.<br>and
	 as always free entry, unless you bring a shit attitude, homophobia, trans
	phobia rascism, sexism etc.<br><br>bring cash to donate!<br>see you then!<
	br><br><a href="https://gregshapiro.nl/">https://gregshapiro.nl/</a></p>
BEGIN:VALARM
ACTION:DISPLAY
DESCRIPTION:Comedy night with Greg Shapiro
TRIGGER:-PT1H
END:VALARM
END:VEVENT
END:VCALENDAR
