BEGIN:VCALENDAR
VERSION:2.0
CALSCALE:GREGORIAN
PRODID:adamgibbons/ics
METHOD:PUBLISH
X-PUBLISHED-TTL:PT1H
BEGIN:VEVENT
UID:21091@offbeat.amsterdam
SUMMARY:Circulo Roto presents: More Heat Than Light
DTSTAMP:20260422T184447Z
DTSTART:20260508T180000Z
DESCRIPTION:CIRCULO ROTO PRESENTS: MORE HEAT THAN LIGHT\n\nCírculo Roto is 
	a quarterly film night highlighting works by independent makers.\nFor this
	 edition\, we present a program of short films that draw an analogy\nbetwe
	en film and writing.
URL:https://offbeat.amsterdam/event/circulo-roto-presents-more-heat-than-li
	ght
GEO:52.3637259;4.8676321
LOCATION:LAB111 - Arie Biemondstraat 111\, 1054 PD Amsterdam
STATUS:CONFIRMED
CATEGORIES:amsterdam-west,film,oud-west,overtoombuurt
X-ALT-DESC;FMTTYPE=text/html:<h1>Circulo Roto presents: More Heat Than Ligh
	t</h1>Círculo Roto is a quarterly film night highlighting works by indepen
	dent makers. For this edition, we present a program of short films that dr
	aw an analogy between film and writing.
BEGIN:VALARM
ACTION:DISPLAY
DESCRIPTION:Circulo Roto presents: More Heat Than Light
TRIGGER:-PT1H
END:VALARM
END:VEVENT
END:VCALENDAR
