BEGIN:VCALENDAR
VERSION:2.0
CALSCALE:GREGORIAN
PRODID:adamgibbons/ics
METHOD:PUBLISH
X-PUBLISHED-TTL:PT1H
BEGIN:VEVENT
UID:21171@offbeat.amsterdam
SUMMARY:CiNEMERCATOR
DTSTAMP:20260424T193223Z
DTSTART:20260429T180000Z
DESCRIPTION:Filmlover\,\n\n4 cinephiles: [https://www.supermercator.nl/cine
	mercator/team-cinemercator]\n\nMerthe Voorhoeve\,\n\nAndreas van Riet\,\n\
	nMaaike Hasselaar\n\n& Elisabeth van Vliet\,\n\neach are programming 1 pre
	cious film per month. That's 4 precious films per\nmonth!\n\nCiNEMERCATOR\
	n\ndoors open 19:00\n\nstart 20:00\n\nticket 3€\n\n29-4\n\nDo you want to 
	receive our\n\nmonthly program\n[https://mail.google.com/mail/u/0/#inbox/F
	MfcgzQgKvPxCNcfdGdLhGBXdGSdjWph?compose=new&projector=1]?\n\nSend 'show me
	 your movies' to [cinemercator@gmail.com]:\n\ncinemercator@gmail.com [cine
	mercator@gmail.com]\n\narchive [https://www.supermercator.nl/cinemercator/
	cinemercator-a-r-c-h-i-v-e]
URL:https://offbeat.amsterdam/event/cinemercator-1
GEO:52.3689648;4.8512865
LOCATION:Supermercator - Mercatorplein 3H\, 1057 BX Amsterdam
STATUS:CONFIRMED
CATEGORIES:amsterdam-west,de-baarsjes,film,oud-west
X-ALT-DESC;FMTTYPE=text/html:<p> Filmlover, </p><p><a href="https://www.sup
	ermercator.nl/cinemercator/team-cinemercator">4 cinephiles: </a></p><p>Mer
	the Voorhoeve, </p><p>Andreas van Riet, </p><p>Maaike Hasselaar </p><p>&am
	p; Elisabeth van Vliet,</p><p>each are programming 1 precious film per mon
	th. That's 4 precious films per month!</p><p>CiNEMERCATOR</p><p> doors ope
	n 19:00 </p><p> start 20:00</p><p> ticket 3€</p><p>29-4</p><p>Do you want 
	to receive our </p><p><a target="_blank" href="https://mail.google.com/mai
	l/u/0/#inbox/FMfcgzQgKvPxCNcfdGdLhGBXdGSdjWph?compose=new&amp;projector=1"
	>monthly program</a>?</p><p><a target="_blank" href="mailto:cinemercator@g
	mail.com">Send <em>'show me your movies'</em> to</a>:</p><p><a target="_bl
	ank" href="mailto:cinemercator@gmail.com">cinemercator@gmail.com</a></p><p
	><a href="https://www.supermercator.nl/cinemercator/cinemercator-a-r-c-h-i
	-v-e"> <em>archive</em></a></p>
BEGIN:VALARM
ACTION:DISPLAY
DESCRIPTION:CiNEMERCATOR
TRIGGER:-PT1H
END:VALARM
END:VEVENT
END:VCALENDAR
