BEGIN:VCALENDAR
VERSION:2.0
CALSCALE:GREGORIAN
PRODID:adamgibbons/ics
METHOD:PUBLISH
X-PUBLISHED-TTL:PT1H
BEGIN:VEVENT
UID:21068@offbeat.amsterdam
SUMMARY:Christian Gates
DTSTAMP:20260421T224104Z
DTSTART:20261004T173000Z
DESCRIPTION:Christian Gates broke through in 2019 with his debut single “Sk
	itzo” and has\ncarved out a unique place for himself in the pop world.\n\n
	This TikTok sensation is known for his mix of genres featuring dark\, alte
	rnative\npop and his raspy voice. His music repeatedly reflects a turbulen
	t youth\, marked\nby street racing and run-ins with the law. With a consta
	nt drive to innovate\, he\ncontinues to push boundaries and further develo
	p his sound.
URL:https://offbeat.amsterdam/event/christian-gates
GEO:52.3647777;4.881073026725959
LOCATION:Melkweg - Lijnbaansgracht 234A\, 1017 PH Amsterdam
STATUS:CONFIRMED
CATEGORIES:alternative pop,amsterdam-centrum,concert,dark,leidseplein,tikto
	k sensation
X-ALT-DESC;FMTTYPE=text/html:<p>Christian Gates broke through in 2019 with 
	his debut single “Skitzo” and has carved out a unique place for himself in
	 the pop world.</p><p>This TikTok sensation is known for his mix of genres
	 featuring dark, alternative pop and his raspy voice. His music repeatedly
	 reflects a turbulent youth, marked by street racing and run-ins with the 
	law. With a constant drive to innovate, he continues to push boundaries an
	d further develop his sound.</p>
BEGIN:VALARM
ACTION:DISPLAY
DESCRIPTION:Christian Gates
TRIGGER:-PT1H
END:VALARM
END:VEVENT
END:VCALENDAR
