BEGIN:VCALENDAR
VERSION:2.0
CALSCALE:GREGORIAN
PRODID:adamgibbons/ics
METHOD:PUBLISH
X-PUBLISHED-TTL:PT1H
BEGIN:VEVENT
UID:21026@offbeat.amsterdam
SUMMARY:BRET X Archie Hamilton
DTSTAMP:20260421T183346Z
DTSTART:20260606T210000Z
DTEND:20260607T040000Z
DESCRIPTION:Archie Hamilton returns to BRET for an all night long session.\
	n\n“One of my favourite clubs in Europe”\n\nGet ready!\n\nLineup:\nArchie 
	Hamilton
URL:https://offbeat.amsterdam/event/bret-x-archie-hamilton
GEO:52.3898525;4.836764
LOCATION:Bret - Orlyplein 76\, 1043 DP Amsterdam
STATUS:CONFIRMED
CATEGORIES:amsterdam-west,house,sloterdijk
X-ALT-DESC;FMTTYPE=text/html:<p>Archie Hamilton returns to BRET for an all 
	night long session. <br><br>“One of my favourite clubs in Europe” <br><br>
	Get ready! </p><p><strong>Lineup:</strong><br>Archie Hamilton</p>
BEGIN:VALARM
ACTION:DISPLAY
DESCRIPTION:BRET X Archie Hamilton
TRIGGER:-PT1H
END:VALARM
END:VEVENT
END:VCALENDAR
