BEGIN:VCALENDAR
VERSION:2.0
CALSCALE:GREGORIAN
PRODID:adamgibbons/ics
METHOD:PUBLISH
X-PUBLISHED-TTL:PT1H
BEGIN:VEVENT
UID:21134@offbeat.amsterdam
SUMMARY:Break Protocol
DTSTAMP:20260423T200604Z
DTSTART:20260613T180000Z
DTEND:20260614T010000Z
DESCRIPTION:LET’S BREAK PROTOCOL!\n\nA powerful blend of breakbeats\, phat 
	grooves\, electro and techno\, driven by\nmasters of sound and visuals.\n\
	nDisruption starts here.\n\nTICKETS: https://weeztix.shop/wvy85wex [https:
	//weeztix.shop/wvy85wex]\n\nEarly bird: € 9\,09 Regular: € 12\,- Door: € 1
	7\,-\nhttps://www.instagram.com/breakprotocol.ams\n[https://www.instagram.
	com/breakprotocol.ams]\n\nhttps://www.facebook.com/events/1671380827217396
	\n[https://www.facebook.com/events/1671380827217396]\n\nLine up (A-Z)\n\nD
	aniel Englisch (Groom Lake Universal | Wooferland)\nwww.instagram.com/dani
	el.englisch [https://www.instagram.com/daniel.englisch]\n\nNóra Feryne (Sa
	me Size Soul | Zodiak Commune Records)\nwww.https:[//www.instagram.com/djf
	eryne](https:////www.instagram.com/djferyne)\n[http://www.https:%5B//www.i
	nstagram.com/djferyne%5D(https:////www.instagram.com/djferyne)]\n\nMarco A
	urelio (AMW) www.instagram.com/marcoaurelio_amsterdam\n[https://www.instag
	ram.com/marcoaurelio_amsterdam]\n\nProfessor Dictabeat LIVE (HÖR | Reveal 
	| E23 Records)\nwww.instagram.com/dictabeat [https://www.instagram.com/dic
	tabeat]\n\nRawB (Energy.ams) www.instagram.com/raw.b.dj\n[https://www.inst
	agram.com/raw.b.dj]\n\nRombout (WorldWide WigWam) www.instagram.com/rombie
	75\n[https://www.instagram.com/rombie75]\n\nRetinal Rupture Visuals (AMW |
	 Kraft | Vertieft | Goesting)\nwww.instagram.com/retinal.rupture.visuals\n
	[https://www.instagram.com/retinal.rupture.visuals]\n\nComing with public 
	transport? The venue is 10 minutes walking distance from the\nnearest bus 
	stop: Spaarndammerstraat.\n\nDay: Bus 22 https://gvb.nl/en/travel-informat
	ion/line/GVB/22\n[https://gvb.nl/en/travel-information/line/GVB/22]\n\nNig
	ht: Bus N81 https://gvb.nl/en/travel-information/line/GVB/281\n[https://gv
	b.nl/en/travel-information/line/GVB/281]\n\n𝐈𝐍𝐅𝐎\n\nDate: Saturday 13th of
	 June 2026\nTime: 20:00 - 03:00\nLocation: Main Stage Toekomstmuziek\, Dan
	zigerbocht 29\, Amsterdam\nEntrance: Tickets [https://weeztix.shop/wvy85we
	x]
URL:https://offbeat.amsterdam/event/break-protocol
GEO:52.3966283;4.8755183
LOCATION:Toekomstmuziek - Danzigerbocht 29\, 1013 AM Amsterdam
STATUS:CONFIRMED
CATEGORIES:amsterdam-west,breakbeats,electro music,electronic,live,minervah
	aven,retinal rupture visuals,soul,techno,westpoort
X-ALT-DESC;FMTTYPE=text/html:<p>LET’S BREAK PROTOCOL!</p><br><p>A powerful 
	blend of breakbeats, phat grooves, electro and techno, driven by masters o
	f sound and visuals.</p><br><p>Disruption starts here.</p><br><p>TICKETS: 
	<a href="https://weeztix.shop/wvy85wex">https://weeztix.shop/wvy85wex</a><
	/p><br><p>Early bird: € 9,09 Regular: € 12,- Door: € 17,- <a href="https:/
	/www.instagram.com/breakprotocol.ams">https://www.instagram.com/breakproto
	col.ams</a></p><br><p><a href="https://www.facebook.com/events/16713808272
	17396">https://www.facebook.com/events/1671380827217396</a></p><br><p>Line
	 up (A-Z)</p><br><p>Daniel Englisch (Groom Lake Universal | Wooferland) <a
	 href="https://www.instagram.com/daniel.englisch">www.instagram.com/daniel
	.englisch</a></p><br><p>Nóra Feryne (Same Size Soul | Zodiak Commune Recor
	ds) <a href="http://www.https:%5B//www.instagram.com/djferyne%5D(https:///
	/www.instagram.com/djferyne)">www.https:[//www.instagram.com/djferyne](htt
	ps:////www.instagram.com/djferyne)</a></p><br><p>Marco Aurelio (AMW) <a hr
	ef="https://www.instagram.com/marcoaurelio_amsterdam">www.instagram.com/ma
	rcoaurelio_amsterdam</a></p><br><p>Professor Dictabeat LIVE (HÖR | Reveal 
	| E23 Records) <a href="https://www.instagram.com/dictabeat">www.instagram
	.com/dictabeat</a></p><br><p>RawB (Energy.ams) <a href="https://www.instag
	ram.com/raw.b.dj">www.instagram.com/raw.b.dj</a></p><br><p>Rombout (WorldW
	ide WigWam) <a href="https://www.instagram.com/rombie75">www.instagram.com
	/rombie75</a></p><br><p>Retinal Rupture Visuals (AMW | Kraft | Vertieft | 
	Goesting) <a href="https://www.instagram.com/retinal.rupture.visuals">www.
	instagram.com/retinal.rupture.visuals</a></p><br><p>Coming with public tra
	nsport? The venue is 10 minutes walking distance from the nearest bus stop
	: Spaarndammerstraat.</p><br><p>Day: Bus 22 <a href="https://gvb.nl/en/tra
	vel-information/line/GVB/22">https://gvb.nl/en/travel-information/line/GVB
	/22</a></p><br><p>Night: Bus N81 <a href="https://gvb.nl/en/travel-informa
	tion/line/GVB/281">https://gvb.nl/en/travel-information/line/GVB/281</a></
	p><br><p>𝐈𝐍𝐅𝐎</p><br><p>Date: Saturday 13th of June 2026<br><br>Time: 20:0
	0 - 03:00<br><br>Location: Main Stage Toekomstmuziek, Danzigerbocht 29, Am
	sterdam<br><br>Entrance: <a href="https://weeztix.shop/wvy85wex">Tickets</
	a></p>
BEGIN:VALARM
ACTION:DISPLAY
DESCRIPTION:Break Protocol
TRIGGER:-PT1H
END:VALARM
END:VEVENT
END:VCALENDAR
