BEGIN:VCALENDAR
VERSION:2.0
CALSCALE:GREGORIAN
PRODID:adamgibbons/ics
METHOD:PUBLISH
X-PUBLISHED-TTL:PT1H
BEGIN:VEVENT
UID:20866@offbeat.amsterdam
SUMMARY:Bloemstraat dinner & market
DTSTAMP:20260422T102447Z
DTSTART:20260418T153000Z
DTEND:20260418T180000Z
DESCRIPTION:Open: 17:30 - 20:00 hrs\nTickets: € 0\n\nDinner and market in c
	ollaboration with the Ventilator and Bloemstraat event\,\nOpen Table.
URL:https://offbeat.amsterdam/event/bloemstraat-dinner-and-market
GEO:52.3601403;4.8656923
LOCATION:OT301 - Overtoom 301\, 1054 HW Amsterdam
STATUS:CONFIRMED
CATEGORIES:amsterdam-west,dinner,vondelparkbuurt
X-ALT-DESC;FMTTYPE=text/html:<strong>Open:</strong> 17:30 - 20:00 hrs<br><s
	trong>Tickets:</strong> € 0  <p>Dinner and market in collaboration with th
	e Ventilator and Bloemstraat event, Open Table.</p>
BEGIN:VALARM
ACTION:DISPLAY
DESCRIPTION:Bloemstraat dinner & market
TRIGGER:-PT1H
END:VALARM
END:VEVENT
END:VCALENDAR
