BEGIN:VCALENDAR
VERSION:2.0
CALSCALE:GREGORIAN
PRODID:adamgibbons/ics
METHOD:PUBLISH
X-PUBLISHED-TTL:PT1H
BEGIN:VEVENT
UID:21088@offbeat.amsterdam
SUMMARY:Bloeiklas at De Ceuvel (for people aged 18-35) ”dealing with confli
	ct”
DTSTAMP:20260422T184810Z
DTSTART:20260616T091100Z
DTEND:20260616T220000Z
DESCRIPTION:What: Bloeiklas at De Ceuvel (for people aged 18-35) When: Tues
	day 16 June 2026\nTime: walk-in 19:15 | start 19:30 | end 21:30 + drinks F
	or whom: 18-35 years old\nWhere: in the Metabolic at De Ceuvel Sign up: Vi
	a the website\n[https://www.dekwekerij.org/bloeiklas/amsterdamnoord-confli
	ct/] of De Kwekerij\nAccess: Participation is free\n\n\nSIGN UP HERE [http
	s://www.dekwekerij.org/bloeiklas/amsterdamnoord-conflict/]\n\nAn evening i
	n a relaxed atmosphere\, especially for people aged 18-35. In the\nBloeikl
	as\, we work with a mix of personal stories\, scientific theory\, creative
	\nassignments\, movement and reflection.\n\nThese methods invite openness\
	, vulnerability and playfulness\, so you can grow at\nyour own pace. What 
	starts out as exciting for many participants often quickly\nbecomes valuab
	le and connecting.\n\nYou can come alone or together with a friend. Would 
	you prefer a buddy? Let us\nknow when you sign up. During the evening\, it
	 is easy to connect with others who\nare also looking for meaning. Sign up
	 and come bloom!\n\n\nBLOEIKLAS\n\nWhat will you take away? Fun exercises\
	, in-depth conversations and insight into\nwhen love can be good enough in
	 your life.\n\nQuestions? Take a look at the website of De Kwekerij\n[http
	s://www.dekwekerij.org/bloeiklas/liefde-amsterdam/].\nOr call Marlou at 06
	-18818403\, City Coordinator Amsterdam-Noord at De Kwekerij.\n\nat De Kwek
	erij.
URL:https://offbeat.amsterdam/event/bloeiklas-at-de-ceuvel-for-people-aged-
	18-35-dealing-with-conflict
GEO:52.3930912;4.9096685
LOCATION:De Ceuvel - Korte Papaverweg 2\, 1032 KB Amsterdam
STATUS:CONFIRMED
CATEGORIES:amsterdam-noord,buiksloterham,stories
X-ALT-DESC;FMTTYPE=text/html:<strong>What</strong>: Bloeiklas at De Ceuvel 
	(for people aged 18-35) <strong>When</strong>: Tuesday 16 June 2026 <stron
	g>Time</strong>: walk-in 19:15 | start 19:30 | end 21:30 + drinks <strong>
	For whom: </strong>18-35 years old <strong>Where</strong>: in the Metaboli
	c at De Ceuvel <strong>Sign up</strong>: Via the <a target="_blank" href="
	https://www.dekwekerij.org/bloeiklas/amsterdamnoord-conflict/">website</a>
	 of De Kwekerij <strong>Access</strong>: Participation is free  <h2>SIGN U
	P <a target="_blank" href="https://www.dekwekerij.org/bloeiklas/amsterdamn
	oord-conflict/">HERE</a></h2>  <p><strong>An evening in a relaxed atmosphe
	re, especially for people aged 18-35. In the Bloeiklas, we work with a mix
	 of personal stories, scientific theory, creative assignments, movement an
	d reflection.</strong></p> <p>These methods invite openness, vulnerability
	 and playfulness, so you can grow at your own pace. What starts out as exc
	iting for many participants often quickly becomes valuable and connecting.
	</p> <p>You can come alone or together with a friend. Would you prefer a b
	uddy? Let us know when you sign up. During the evening, it is easy to conn
	ect with others who are also looking for meaning. Sign up and come bloom!<
	/p>  <h3>Bloeiklas</h3> <p><strong>What will you take away?</strong> Fun e
	xercises, in-depth conversations and insight into when love can be good en
	ough in your life.</p>  <p><em>Questions? Take a look at the website of <a
	 target="_blank" href="https://www.dekwekerij.org/bloeiklas/liefde-amsterd
	am/">De Kwekerij</a>. </em><br> <em>Or call Marlou at 06-18818403, City Co
	ordinator Amsterdam-Noord at De Kwekerij.</em></p> <p>at De Kwekerij.</p>
BEGIN:VALARM
ACTION:DISPLAY
DESCRIPTION:Bloeiklas at De Ceuvel (for people aged 18-35) ”dealing with co
	nflict”
TRIGGER:-PT1H
END:VALARM
END:VEVENT
END:VCALENDAR
