BEGIN:VCALENDAR
VERSION:2.0
CALSCALE:GREGORIAN
PRODID:adamgibbons/ics
METHOD:PUBLISH
X-PUBLISHED-TTL:PT1H
BEGIN:VEVENT
UID:21172@offbeat.amsterdam
SUMMARY:Bipolar Disorder Records x INTERLINK
DTSTAMP:20260424T193515Z
DTSTART:20260612T210000Z
DTEND:20260613T070000Z
DESCRIPTION:STEFFI | ROSATI | PAULA KOSKI | THE CHRONICS | LUAR | BASTIENNE
	 | CEB | BENCHIKO\n\nBIPOLAR DISORDER REC x INTERLINK\n\n12.06.2026 — TILL
	ATEC — AMSTERDAM\n\nBerlin-Geneva based label imprint Bipolar Disorder bri
	ngs back its Amsterdam\nchapter on the 12.06\, teaming up again with INTER
	LINK for a night at TILLATEC.\n\nHeadlining is Steffi\, a producer\, DJ an
	d label head who has remained at the\nforefront of contemporary dance musi
	c since the mid-90s. From her enduring\nBerghain residency to her long-run
	ning labels Klakson and Dolly\, and most\nrecently her Portugal-based crea
	tive hub Candy Mountain\, her unwavering\ncommitment to challenging hersel
	f has shaped one of the scene's most respected\ncareers.\nJoining her is A
	msterdam-based Italian Rosati\, whose sound bridges techno's\npast\, prese
	nt and future across releases on Dolly\, SoHaSo and his own\nvinyl-focused
	 Global Pulse label.\n\nBipolar Disorder's The Chronics and Benchiko bring
	 the imprint's signature edge\,\njoined by INTERLINK-founders Paula Koski 
	and CEB\, with local forces Bastienne\nand LUAR completing the Amsterdam b
	ill.\n\n\n–\n\nBerlin-Geneva based label imprint Bipolar Disorder brings b
	ack its Amsterdam\nchapter on the 12.06\, teaming up again with INTERLINK 
	for a night at TILLATEC.\n\nHeadlining is Steffi\, a producer\, DJ and lab
	el head who has remained at the\nforefront of contemporary dance music sin
	ce the mid-90s. From her enduring\nBerghain residency to her long-running 
	labels Klakson and Dolly\, and most\nrecently her Portugal-based creative 
	hub Candy Mountain\, her unwavering\ncommitment to challenging herself has
	 shaped one of the scene's most respected\ncareers.\nJoining her is Amster
	dam-based Italian Rosati\, whose sound bridges techno's\npast\, present an
	d future across releases on Dolly\, SoHaSo and his own\nvinyl-focused Glob
	al Pulse label.\n\nBipolar Disorder's The Chronics and Benchiko bring the 
	imprint's signature edge\,\njoined by INTERLINK-founders Paula Koski and C
	EB\, with local forces Bastienne\nand LUAR completing the Amsterdam bill.\
	n\n\nLineup:\nSteffi Rosati Paula Koski The Chronics LUAR (NL) CEB (FI) Ba
	stienne Benchiko
URL:https://offbeat.amsterdam/event/bipolar-disorder-records-x-interlink
GEO:52.3699549;4.843713
LOCATION:Tilla Tec - Doctor Jan van Breemenstraat 1\, 1056 AB Amsterdam
STATUS:CONFIRMED
CATEGORIES:amsterdam-west,dance,dj,music,rembrandtpark,techno,vinyl
X-ALT-DESC;FMTTYPE=text/html:<p>STEFFI | ROSATI | PAULA KOSKI | THE CHRONIC
	S | LUAR | BASTIENNE | CEB | BENCHIKO <br><br>BIPOLAR DISORDER REC x INTER
	LINK <br><br>12.06.2026 — TILLATEC — AMSTERDAM<br><br>Berlin-Geneva based 
	label imprint Bipolar Disorder brings back its Amsterdam chapter on the 12
	.06, teaming up again with INTERLINK for a night at TILLATEC.<br><br>Headl
	ining is Steffi, a producer, DJ and label head who has remained at the for
	efront of contemporary dance music since the mid-90s. From her enduring Be
	rghain residency to her long-running labels Klakson and Dolly, and most re
	cently her Portugal-based creative hub Candy Mountain, her unwavering comm
	itment to challenging herself has shaped one of the scene's most respected
	 careers.<br>Joining her is Amsterdam-based Italian Rosati, whose sound br
	idges techno's past, present and future across releases on Dolly, SoHaSo a
	nd his own vinyl-focused Global Pulse label.<br><br>Bipolar Disorder's The
	 Chronics and Benchiko bring the imprint's signature edge, joined by INTER
	LINK-founders Paula Koski and CEB, with local forces Bastienne and LUAR co
	mpleting the Amsterdam bill.<br><br><br>–<br><br>Berlin-Geneva based label
	 imprint Bipolar Disorder brings back its Amsterdam chapter on the 12.06, 
	teaming up again with INTERLINK for a night at TILLATEC.<br><br>Headlining
	 is Steffi, a producer, DJ and label head who has remained at the forefron
	t of contemporary dance music since the mid-90s. From her enduring Berghai
	n residency to her long-running labels Klakson and Dolly, and most recentl
	y her Portugal-based creative hub Candy Mountain, her unwavering commitmen
	t to challenging herself has shaped one of the scene's most respected care
	ers.<br>Joining her is Amsterdam-based Italian Rosati, whose sound bridges
	 techno's past, present and future across releases on Dolly, SoHaSo and hi
	s own vinyl-focused Global Pulse label.<br><br>Bipolar Disorder's The Chro
	nics and Benchiko bring the imprint's signature edge, joined by INTERLINK-
	founders Paula Koski and CEB, with local forces Bastienne and LUAR complet
	ing the Amsterdam bill.<br></p><p><strong>Lineup:</strong><br>Steffi&nbsp;
	Rosati&nbsp;Paula Koski&nbsp;The Chronics&nbsp;LUAR (NL)&nbsp;CEB (FI)&nbs
	p;Bastienne Benchiko</p>
BEGIN:VALARM
ACTION:DISPLAY
DESCRIPTION:Bipolar Disorder Records x INTERLINK
TRIGGER:-PT1H
END:VALARM
END:VEVENT
END:VCALENDAR
