BEGIN:VCALENDAR
VERSION:2.0
CALSCALE:GREGORIAN
PRODID:adamgibbons/ics
METHOD:PUBLISH
X-PUBLISHED-TTL:PT1H
BEGIN:VEVENT
UID:21155@offbeat.amsterdam
SUMMARY:BioBlitz: de Amsterdamse vismigratie
DTSTAMP:20260424T193709Z
DTSTART:20260520T063000Z
DESCRIPTION:Kom BioBlitzen op het Marineterrein en help jouw stad vergroene
	n! Deze keer\nduiken we in de geheimen van de onderwaterwereld.\n\nDe natu
	ur wereldwijd staat onder druk\, maar hoe staat de natuur in onze stad er\
	neigenlijk voor? Om hier een antwoord op te vinden\, organiseert Bureau\nM
	arineterrein samen met Pakhuis de Zwijger een reeks ‘BioBlitz’-en. Tijdens
	 zo’n\nBioBlitz brengen we samen het ecosysteem op het Marineterrein in ka
	art. Dit keer\nduiken we in de wereld van vissen die door de stad trekken.
	 Want wat gebeurt er\nals je als vis onderweg bent in een landschap vol ka
	des\, sluizen en gemalen?\n\nProgramma Bioblitz 08:30 - 08:45 | Ontvangst 
	met koffie & thee @Pakhuis de\nZwijger 08:45 - 11:00 | Op pad naar de visp
	assage bij Boezemgemaal Halfweg en\nhet onderwaterleven in kaart brengen\n
	\nOm 8:45 vertrekt de bus naar de vispassage. Je mag ook op eigen gelegenh
	eid naar\nde vispassage bij Boezemgemaal Halfweg komen. Dan zien we elkaar
	 daar om 9.15!\n\nAdres: Wethouder van Essenweg 1\, 1047 AV Amsterdam\n[ht
	tps://www.google.com/maps/place//data=!4m2!3m1!1s0x47c5e381c4acbc31:0x1a37
	0d219f90b48b?sa=X&ved=1t:8290&ictx=111]\n\n11:00 - 11:30 | Terug naar Pakh
	uis de Zwijger Samen op pad met Geert Timmermans\nStadsecoloog bij Gemeent
	e Amsterdam [https://twitter.com/stadsecoloog020]\n\n\nOVER DE BIOBLITZ-RE
	EKS\n\nHet doel van deze reeks is om met elkaar een biodiversiteitskaart v
	an het\nterrein te maken en\, op basis van de opgedane kennis\, na te denk
	en over hoe dit\ngebied natuurinclusief ingericht en beheerd kan worden. Z
	o werken we samen aan\nhet bouwen van een leefbare stad voor mens en natuu
	r.\n\nDocumenten en links Over het Marineterrein\n\nOp het Marineterrein w
	ordt gewerkt aan de toekomst van de stad. Door samen te\nwerken en te expe
	rimenteren met een collectief van organisaties en\nkennisinstellingen\, on
	derzoeken ze hoe de stad zich het beste kan aanpassen aan\nde snel verande
	rende wereld. Wil je ook meewerken aan een leefbare stad\, meer\nleren ove
	r de experimenten die er plaatsvinden of geïnspireerd raken tijdens een\nv
	an de evenementen op het terrein. Ga dan naar marineterrein.nl voor meer\n
	informatie.\n\n[http://]
URL:https://offbeat.amsterdam/event/bioblitz-de-amsterdamse-vismigratie
GEO:52.376857;4.9220756
LOCATION:Pakhuis de Zwijger - Piet Heinkade 179\, 1019 HC Amsterdam
STATUS:CONFIRMED
CATEGORIES:amsterdam-centrum,duurzaamheid,eastern docklands
X-ALT-DESC;FMTTYPE=text/html:Kom BioBlitzen op het Marineterrein en help jo
	uw stad vergroenen! Deze keer duiken we in de geheimen van de onderwaterwe
	reld. <p>De natuur wereldwijd staat onder druk, maar hoe staat de natuur i
	n onze stad er eigenlijk voor? Om hier een antwoord op te vinden, organise
	ert Bureau Marineterrein samen met Pakhuis de Zwijger een reeks ‘BioBlitz’
	-en. Tijdens zo’n BioBlitz brengen we samen het ecosysteem op het Marinete
	rrein in kaart. Dit keer duiken we in de wereld van vissen die door de sta
	d trekken. Want wat gebeurt er als je als vis onderweg bent in een landsch
	ap vol kades, sluizen en gemalen?</p>    Programma Bioblitz    08:30 - 08:
	45 | Ontvangst met koffie &amp; thee @Pakhuis de Zwijger   08:45 - 11:00 |
	 Op pad naar de vispassage bij Boezemgemaal Halfweg en het onderwaterleven
	 in kaart brengen <p>Om 8:45 vertrekt de bus naar de vispassage. Je mag oo
	k op eigen gelegenheid naar de vispassage bij Boezemgemaal Halfweg komen. 
	Dan zien we elkaar daar om 9.15!</p> <p><em>Adres: <a target="_blank" href
	="https://www.google.com/maps/place//data=!4m2!3m1!1s0x47c5e381c4acbc31:0x
	1a370d219f90b48b?sa=X&amp;ved=1t:8290&amp;ictx=111">Wethouder van Essenweg
	 1, 1047 AV Amsterdam</a></em></p>    11:00 - 11:30 | Terug naar Pakhuis d
	e Zwijger      Samen op pad met  <a href="https://twitter.com/stadsecoloog
	020" target="_blank">  Geert Timmermans Stadsecoloog bij Gemeente Amsterda
	m  </a>     <h3>Over de BioBlitz-reeks</h3> <p>Het doel van deze reeks is 
	om met elkaar een biodiversiteitskaart van het terrein te maken en, op bas
	is van de opgedane kennis, na te denken over hoe dit gebied natuurinclusie
	f ingericht en beheerd kan worden. Zo werken we samen aan het bouwen van e
	en leefbare stad voor mens en natuur.</p>   Documenten en links  <a target
	="_blank" href="http://">  Over het Marineterrein <p>Op het Marineterrein 
	wordt gewerkt aan de toekomst van de stad. Door samen te werken en te expe
	rimenteren met een collectief van organisaties en kennisinstellingen, onde
	rzoeken ze hoe de stad zich het beste kan aanpassen aan de snel veranderen
	de wereld. Wil je ook meewerken aan een leefbare stad, meer leren over de 
	experimenten die er plaatsvinden of geïnspireerd raken tijdens een van de 
	evenementen op het terrein. Ga dan naar marineterrein.nl voor meer informa
	tie.</p>   </a>
BEGIN:VALARM
ACTION:DISPLAY
DESCRIPTION:BioBlitz: de Amsterdamse vismigratie
TRIGGER:-PT1H
END:VALARM
END:VEVENT
END:VCALENDAR
