BEGIN:VCALENDAR
VERSION:2.0
CALSCALE:GREGORIAN
PRODID:adamgibbons/ics
METHOD:PUBLISH
X-PUBLISHED-TTL:PT1H
BEGIN:VEVENT
UID:21173@offbeat.amsterdam
SUMMARY:Billie Eilish - Hit Me Hard and Soft: The Tour (2026)
DTSTAMP:20260424T194159Z
DTSTART:20260507T191500Z
DESCRIPTION:Hit Me Hard and Soft: The Tour was captured during Billie Eilis
	h' sold-out world\ntour\, with three shows in Ziggo Dome. The film from di
	rector James Cameron\n(Titanic\, Avatar\, Aliens\, The Terminator) brings 
	an innovative new concert\nexperience to the big screen from one of the mo
	st celebrated and successful\nartists of her generation. \n\nPlease note: 
	we are screening this in 2D.\n\nMelkweg often hosts different types of pro
	grammes at the same time\, such as\nconcerts\, club nights and films. Plea
	se note that there may occasionally be some\nnoise pollution from other pr
	ogrammes during the screening.
URL:https://offbeat.amsterdam/event/billie-eilish-hit-me-hard-and-soft-the-
	tour-2026
GEO:52.3647777;4.881073026725959
LOCATION:Melkweg - Lijnbaansgracht 234A\, 1017 PH Amsterdam
STATUS:CONFIRMED
CATEGORIES:amsterdam-centrum,concert film,electro pop,film,leidseplein
X-ALT-DESC;FMTTYPE=text/html:<p>Hit Me Hard and Soft: The Tour was captured
	 during Billie Eilish' sold-out world tour, with three shows in Ziggo Dome
	. The film from director James Cameron (Titanic, Avatar, Aliens, The Termi
	nator) brings an innovative new concert experience to the big screen from 
	one of the most celebrated and successful artists of her generation.&nbsp;
	</p><p><i>Please note: we are screening this in 2D.</i></p><p><i>Melkweg o
	ften hosts different types of programmes at the same time, such as concert
	s, club nights and films. Please note that there may occasionally be some 
	noise pollution from other programmes during the screening.</i></p>
BEGIN:VALARM
ACTION:DISPLAY
DESCRIPTION:Billie Eilish - Hit Me Hard and Soft: The Tour (2026)
TRIGGER:-PT1H
END:VALARM
END:VEVENT
END:VCALENDAR
