BEGIN:VCALENDAR
VERSION:2.0
CALSCALE:GREGORIAN
PRODID:adamgibbons/ics
METHOD:PUBLISH
X-PUBLISHED-TTL:PT1H
BEGIN:VEVENT
UID:21200@offbeat.amsterdam
SUMMARY:Benefit dinner for Le Refuge Solidaire in Briancon
DTSTAMP:20260424T234455Z
DTSTART:20260521T170000Z
DESCRIPTION:Le Refuge Solidaire is a center for people on the move in Brian
	con\, France. They\nare starting a crowdfunding to fund the refuge's kitch
	en\, which welcomes exiled\npeople coming over the franco-italian border. 
	 Offering a warm welcome in times\nwhere fascism is on the rise is extreme
	ly important for our communities. Hot\nmeals are an essential part of this
	 and their spring fundraiser's objective is\nto raise 20 000euros which sh
	ould fund the kitchen for 4months and allow to\nserve around 27 000 meals 
	to exiled people in need. \n\nLet's help support this great initiative! \n
	\n \n\n \n\nSince June 2005\, Joe's Garage is an autonomous squatted polit
	ical social center\,\na meeting place in the Transvaal neighborhood for sq
	uatters and non-squatters\,\nsubsidy free\, not for profit\, self-organize
	d and entirely run by volunteers.\nhttps://squ.at/joe [https://squ.at/joe]
	\nhttps://joe.squat.net [https://joe.squat.net]
URL:https://offbeat.amsterdam/event/benefit-dinner-for-le-refuge-solidaire-
	in-briancon-1
GEO:52.35556625;4.9249982
LOCATION:Joe's Garage - Pretoriusstraat 43\, 1092 EZ Amsterdam
STATUS:CONFIRMED
CATEGORIES:amsterdam-oost,community,dinner,food,fundraiser,music/concert,tr
	ansvaalbuurt
X-ALT-DESC;FMTTYPE=text/html:<p>Le Refuge Solidaire is a center for people 
	on the move in Briancon, France. They are starting a crowdfunding to fund 
	the refuge's kitchen, which welcomes exiled people coming over the franco-
	italian border.&nbsp; Offering a warm welcome in times where fascism is on
	 the rise is extremely important for our communities. Hot meals are an ess
	ential part of this and their spring fundraiser's objective is to raise 20
	 000euros which should fund the kitchen for 4months and allow to serve aro
	und 27 000 meals to exiled people in need.&nbsp;</p><br><p>Let's help supp
	ort this great initiative!&nbsp;</p><br><p>&nbsp;</p><br><p>&nbsp;</p><br>
	<p>Since June 2005, Joe's Garage is an autonomous squatted political socia
	l center, a meeting place in the Transvaal neighborhood for squatters and 
	non-squatters, subsidy free, not for profit, self-organized and entirely r
	un by volunteers.<br><a href="https://squ.at/joe">https://squ.at/joe</a><b
	r><a href="https://joe.squat.net">https://joe.squat.net</a></p>
BEGIN:VALARM
ACTION:DISPLAY
DESCRIPTION:Benefit dinner for Le Refuge Solidaire in Briancon
TRIGGER:-PT1H
END:VALARM
END:VEVENT
END:VCALENDAR
