BEGIN:VCALENDAR
VERSION:2.0
CALSCALE:GREGORIAN
PRODID:adamgibbons/ics
METHOD:PUBLISH
X-PUBLISHED-TTL:PT1H
BEGIN:VEVENT
UID:21180@offbeat.amsterdam
SUMMARY:Ben Ellis
DTSTAMP:20260424T193509Z
DTSTART:20261003T183000Z
URL:https://offbeat.amsterdam/event/ben-ellis-1
GEO:52.3830883;4.9030297
LOCATION:Tolhuistuin - IJpromenade 2\, 1031 KT Amsterdam
STATUS:CONFIRMED
CATEGORIES:amsterdam-noord,buiksloterweg
BEGIN:VALARM
ACTION:DISPLAY
DESCRIPTION:Ben Ellis
TRIGGER:-PT1H
END:VALARM
END:VEVENT
END:VCALENDAR
