BEGIN:VCALENDAR
VERSION:2.0
CALSCALE:GREGORIAN
PRODID:adamgibbons/ics
METHOD:PUBLISH
X-PUBLISHED-TTL:PT1H
BEGIN:VEVENT
UID:20991@offbeat.amsterdam
SUMMARY:Bel Cobain
DTSTAMP:20260420T192619Z
DTSTART:20261028T183000Z
DESCRIPTION:Combination of jazz\, soul\, and psychedelic art-pop\n\nBel Cob
	ain is an enigmatic presence from East London who effortlessly blurs the\n
	boundaries between jazz\, soul\, and psychedelic art-pop. Drawing inspirat
	ion from\nicons like Kate Bush and Pink Floyd\, she reveals her most authe
	ntic self within\na dreamy\, musical landscape. Since her 2019 breakthroug
	h with "Introverted\nStoner\," she has left her mark on festivals such as 
	Glastonbury and venues like\nthe Jazz Cafe\, driven by a radical vision an
	d poetic lyricism.\n\nIn her recent work\, including the EP "Radical Forgi
	veness\," she combines raw\,\npersonal narratives with ethereal melodies a
	nd a touch of experimental\nelectronica. Together with her eclectic ensemb
	le\, Bel creates a synergy that\nchallenges societal norms and invites the
	 listener into deep introspection.\nHaving signed with Gilles Peterson's r
	enowned Brownswood Recordings\, she\nsolidifies her position as one of the
	 most innovative voices of her generation\;\nan artist who chooses purity 
	over the fleeting nature of fame.
URL:https://offbeat.amsterdam/event/bel-cobain
GEO:52.36215535;4.883782439016489
LOCATION:Paradiso - Weteringschans 6\, 1017 SG Amsterdam
STATUS:CONFIRMED
CATEGORIES:amsterdam-centrum,eclectic,experimental,festivals,jazz,leidseple
	in,soul,stoner
X-ALT-DESC;FMTTYPE=text/html:Combination of jazz, soul, and psychedelic art
	-pop<br><br><p>Bel Cobain is an enigmatic presence from East London who ef
	fortlessly blurs the boundaries between jazz, soul, and psychedelic art-po
	p. Drawing inspiration from icons like Kate Bush and Pink Floyd, she revea
	ls her most authentic self within a dreamy, musical landscape. Since her 2
	019 breakthrough with "Introverted Stoner," she has left her mark on festi
	vals such as Glastonbury and venues like the Jazz Cafe, driven by a radica
	l vision and poetic lyricism.</p><p>In her recent work, including the EP "
	Radical Forgiveness," she combines raw, personal narratives with ethereal 
	melodies and a touch of experimental electronica. Together with her eclect
	ic ensemble, Bel creates a synergy that challenges societal norms and invi
	tes the listener into deep introspection. Having signed with Gilles Peters
	on's renowned Brownswood Recordings, she solidifies her position as one of
	 the most innovative voices of her generation; an artist who chooses purit
	y over the fleeting nature of fame.</p>
BEGIN:VALARM
ACTION:DISPLAY
DESCRIPTION:Bel Cobain
TRIGGER:-PT1H
END:VALARM
END:VEVENT
END:VCALENDAR
