BEGIN:VCALENDAR
VERSION:2.0
CALSCALE:GREGORIAN
PRODID:adamgibbons/ics
METHOD:PUBLISH
X-PUBLISHED-TTL:PT1H
BEGIN:VEVENT
UID:21136@offbeat.amsterdam
SUMMARY:BCCO x TRANSITION
DTSTAMP:20260423T200657Z
DTSTART:20260912T210000Z
DTEND:20260913T060000Z
DESCRIPTION:Lineup:\nTBA
URL:https://offbeat.amsterdam/event/bcco-x-transition
GEO:52.3699549;4.843713
LOCATION:Tilla Tec - Doctor Jan van Breemenstraat 1\, 1056 AB Amsterdam
STATUS:CONFIRMED
CATEGORIES:amsterdam-west,rembrandtpark,techno
X-ALT-DESC;FMTTYPE=text/html:<p></p><p><strong>Lineup:</strong><br>TBA</p>
BEGIN:VALARM
ACTION:DISPLAY
DESCRIPTION:BCCO x TRANSITION
TRIGGER:-PT1H
END:VALARM
END:VEVENT
END:VCALENDAR
