BEGIN:VCALENDAR
VERSION:2.0
CALSCALE:GREGORIAN
PRODID:adamgibbons/ics
METHOD:PUBLISH
X-PUBLISHED-TTL:PT1H
BEGIN:VEVENT
UID:21045@offbeat.amsterdam
SUMMARY:Bayou
DTSTAMP:20260421T183316Z
DTSTART:20261015T173000Z
DESCRIPTION:Egyptian-American r&b with pop appeal
URL:https://offbeat.amsterdam/event/bayou-1
GEO:52.36215535;4.883782439016489
LOCATION:Paradiso - Weteringschans 6\, 1017 SG Amsterdam
STATUS:CONFIRMED
CATEGORIES:amsterdam-centrum,leidseplein,rnb
X-ALT-DESC;FMTTYPE=text/html:Egyptian-American r&b with pop appeal
BEGIN:VALARM
ACTION:DISPLAY
DESCRIPTION:Bayou
TRIGGER:-PT1H
END:VALARM
END:VEVENT
END:VCALENDAR
