BEGIN:VCALENDAR
VERSION:2.0
CALSCALE:GREGORIAN
PRODID:adamgibbons/ics
METHOD:PUBLISH
X-PUBLISHED-TTL:PT1H
BEGIN:VEVENT
UID:21128@offbeat.amsterdam
SUMMARY:Bartofso 'Le Tour de Masque'
DTSTAMP:20260423T190918Z
DTSTART:20261107T210000Z
DESCRIPTION:Rapper from The Hague releases new trap album\n\nBartofso\, als
	o known as Akkabouz\, has become one of the most recognisable voices\nin D
	utch hip-hop. The Hague-based rapper is known for his fluid mix of languag
	es\nand flows\, through which he has developed his own instantly recognisa
	ble sound.\nHis breakthrough came in 2017 with ‘Quote 500’\, featuring Mul
	a B and LouiVos.\nSince then\, albums such as ‘Goeie Tijden Akkabouz’ and 
	‘Majin Bouz’\, and tracks\nlike ‘RS’\, ‘Extreem’ and ‘50 Cent’ have become
	 crowd favourites with millions of\nstreams. He also impresses live\, with
	 shows at Lowlands\, Appelsap and Parkpop\,\nand a sold-out night at PIP T
	he Hague.\n\nToday\, Bartofso continues to reinvent himself\, without losi
	ng sight of his\nroots. With a contract at Top Notch and his signature mas
	k\, he is forging a new\npath. On his recent album ‘LE MASQUE’\, he explor
	es a broader sound\, with more\nlayers and experimentation\, and takes his
	 signature Hague trap to the next\nlevel. The project showcases an artist 
	who is growing\, daring to take risks and\nbecoming increasingly sharp.
URL:https://offbeat.amsterdam/event/bartofso-le-tour-de-masque
GEO:52.36215535;4.883782439016489
LOCATION:Paradiso - Weteringschans 6\, 1017 SG Amsterdam
STATUS:CONFIRMED
CATEGORIES:amsterdam-centrum,leidseplein,live
X-ALT-DESC;FMTTYPE=text/html:Rapper from The Hague releases new trap album<
	br><br><p>Bartofso, also known as Akkabouz, has become one of the most rec
	ognisable voices in Dutch hip-hop. The Hague-based rapper is known for his
	 fluid mix of languages and flows, through which he has developed his own 
	instantly recognisable sound. His breakthrough came in 2017 with ‘Quote 50
	0’, featuring Mula B and LouiVos. Since then, albums such as ‘Goeie Tijden
	 Akkabouz’ and ‘Majin Bouz’, and tracks like ‘RS’, ‘Extreem’ and ‘50 Cent’
	 have become crowd favourites with millions of streams. He also impresses 
	live, with shows at Lowlands, Appelsap and Parkpop, and a sold-out night a
	t PIP The Hague.</p><p>Today, Bartofso continues to reinvent himself, with
	out losing sight of his roots. With a contract at Top Notch and his signat
	ure mask, he is forging a new path. On his recent album ‘LE MASQUE’, he ex
	plores a broader sound, with more layers and experimentation, and takes hi
	s signature Hague trap to the next level. The project showcases an artist 
	who is growing, daring to take risks and becoming increasingly sharp.</p>
BEGIN:VALARM
ACTION:DISPLAY
DESCRIPTION:Bartofso 'Le Tour de Masque'
TRIGGER:-PT1H
END:VALARM
END:VEVENT
END:VCALENDAR
