BEGIN:VCALENDAR
VERSION:2.0
CALSCALE:GREGORIAN
PRODID:adamgibbons/ics
METHOD:PUBLISH
X-PUBLISHED-TTL:PT1H
BEGIN:VEVENT
UID:21206@offbeat.amsterdam
SUMMARY:Baile TRAMA w/ BASSAN & CAIO PRINCE
DTSTAMP:20260424T234742Z
DTSTART:20260523T210000Z
DTEND:20260524T050000Z
URL:https://offbeat.amsterdam/event/baile-trama-with-bassan-and-caio-prince
GEO:52.3456292;4.8255446
LOCATION:Radion - Louwesweg 1\, 1066 EA Amsterdam
STATUS:CONFIRMED
CATEGORIES:amsterdam nieuw-west,slotervaart
BEGIN:VALARM
ACTION:DISPLAY
DESCRIPTION:Baile TRAMA w/ BASSAN & CAIO PRINCE
TRIGGER:-PT1H
END:VALARM
END:VEVENT
END:VCALENDAR
