BEGIN:VCALENDAR
VERSION:2.0
CALSCALE:GREGORIAN
PRODID:adamgibbons/ics
METHOD:PUBLISH
X-PUBLISHED-TTL:PT1H
BEGIN:VEVENT
UID:20964@offbeat.amsterdam
SUMMARY:Arti is dedicated to “White Gold.”
DTSTAMP:20260420T181022Z
DTSTART:20260508T160000Z
DESCRIPTION:Once again\, Arti is dedicated to “White Gold.” What has been r
	eceived with great\nenthusiasm in previous seasons returns: a society even
	ing where asparagus takes\ncentre stage\, and the kitchen is fully devoted
	 to this short but rich season.\n\nIn the early morning\, fresh asparagus 
	is sourced directly from the fields of\nBrabant. From late morning onwards
	\, the kitchen brigade begins its preparations.\nWith care and attention\,
	 a menu is created in which classic preparations and\ncontemporary accents
	 come together — leaving room for both refinement and\nfamiliarity.\n\nFro
	m 18:00 onwards\, members and their guests are welcome to join an evening\
	nwhere flavour\, seasonality\, and togetherness are at the heart of the ex
	perience.\nThe menu follows the asparagus in different expressions: from f
	resh\, light notes\nat the start to a rich and well-rounded main course\, 
	followed by a surprising\nfinale.\n\nReserve a ticket and indicate whether
	 you prefer the fish or vegetarian menu.\n\nAs in previous editions\, this
	 evening requires careful preparation in the\nkitchen. We therefore kindly
	 ask you to reserve in advance.\n\nMenu price: €39.50 per person.\n\nNB: O
	n this evening\, the à la carte menu is not available\; only the asparagus
	\nmenu will be served.
URL:https://offbeat.amsterdam/event/arti-is-dedicated-to-white-gold
GEO:52.3688806;4.891799
LOCATION:Arti et Amicitiae - Rokin 112\, 1012 LB Amsterdam
STATUS:CONFIRMED
CATEGORIES:amsterdam-centrum,rokin
X-ALT-DESC;FMTTYPE=text/html:<p>Once again, Arti is dedicated to “White Gol
	d.” What has been received with great enthusiasm in previous seasons retur
	ns: a society evening where asparagus takes centre stage, and the kitchen 
	is fully devoted to this short but rich season.</p><p>In the early morning
	, fresh asparagus is sourced directly from the fields of Brabant. From lat
	e morning onwards, the kitchen brigade begins its preparations. With care 
	and attention, a menu is created in which classic preparations and contemp
	orary accents come together — leaving room for both refinement and familia
	rity.</p><p>From 18:00 onwards, members and their guests are welcome to jo
	in an evening where flavour, seasonality, and togetherness are at the hear
	t of the experience. The menu follows the asparagus in different expressio
	ns: from fresh, light notes at the start to a rich and well-rounded main c
	ourse, followed by a surprising finale.</p><p>Reserve a ticket and indicat
	e whether you prefer the fish or vegetarian menu.</p><p>As in previous edi
	tions, this evening requires careful preparation in the kitchen. We theref
	ore kindly ask you to reserve in advance.</p><p>Menu price: €39.50 per per
	son.</p><p>NB: On this evening, the à la carte menu is not available; only
	 the asparagus menu will be served.</p>
BEGIN:VALARM
ACTION:DISPLAY
DESCRIPTION:Arti is dedicated to “White Gold.”
TRIGGER:-PT1H
END:VALARM
END:VEVENT
END:VCALENDAR
