BEGIN:VCALENDAR
VERSION:2.0
CALSCALE:GREGORIAN
PRODID:adamgibbons/ics
METHOD:PUBLISH
X-PUBLISHED-TTL:PT1H
BEGIN:VEVENT
UID:21197@offbeat.amsterdam
SUMMARY:Arab Spring class
DTSTAMP:20260424T234226Z
DTSTART:20260520T140000Z
DTEND:20260520T160000Z
DESCRIPTION:Arabic onversational class\, to practice verbs\, conjugation an
	d learn from each\nother. Come whatever level you have\, its an open class
	 structure where you can\nask questions and get feedback or talk.\n\nSince
	 June 2005\, Joe's Garage is an autonomous squatted political social cente
	r\,\na meeting place in the Transvaal neighborhood for squatters and non-s
	quatters\,\nsubsidy free\, not for profit\, self-organized and entirely ru
	n by volunteers.\nhttps://squ.at/joe [https://squ.at/joe]\nhttps://joe.squ
	at.net [https://joe.squat.net]
URL:https://offbeat.amsterdam/event/arab-spring-class-9
GEO:52.35556625;4.9249982
LOCATION:Joe's Garage - Pretoriusstraat 43\, 1092 EZ Amsterdam
STATUS:CONFIRMED
CATEGORIES:amsterdam-oost,classes,course/workshop,talk,transvaalbuurt
X-ALT-DESC;FMTTYPE=text/html:<p>Arabic onversational class, to practice ver
	bs, conjugation and learn from each other. Come whatever level you have, i
	ts an open class structure where you can ask questions and get feedback or
	 talk.</p><br><p>Since June 2005, Joe's Garage is an autonomous squatted p
	olitical social center, a meeting place in the Transvaal neighborhood for 
	squatters and non-squatters, subsidy free, not for profit, self-organized 
	and entirely run by volunteers.<br><a href="https://squ.at/joe">https://sq
	u.at/joe</a><br><a href="https://joe.squat.net">https://joe.squat.net</a><
	/p>
BEGIN:VALARM
ACTION:DISPLAY
DESCRIPTION:Arab Spring class
TRIGGER:-PT1H
END:VALARM
END:VEVENT
END:VCALENDAR
