BEGIN:VCALENDAR
VERSION:2.0
CALSCALE:GREGORIAN
PRODID:adamgibbons/ics
METHOD:PUBLISH
X-PUBLISHED-TTL:PT1H
BEGIN:VEVENT
UID:17450@offbeat.amsterdam
SUMMARY:amz invites garnett\, nushin\, and siga
DTSTAMP:20260421T120946Z
DTSTART:20260206T170000Z
DESCRIPTION:Warming up the month of February is in-house dj and curator amz
	. Taking over on\nthe 6th she invites Amsterdam locals and favourites Garn
	ett\, Nushin\, and Siga\,\nand together they’ll provide soulful tunes all 
	night long.\nclick here\n[https://live.tebi.co/ecom/reservations/372646_b4
	046365a80e6c87cd119b473a5993ce1cf3580a6a524147fe6c013f9e8bf9b5]\nto reserv
	e for dinner ♡
URL:https://offbeat.amsterdam/event/amz-invites-garnett-nushin-and-siga
GEO:52.3854298;4.9279805
LOCATION:murmur - Aambeeldstraat 60\, 1021 KB Amsterdam
STATUS:CONFIRMED
CATEGORIES:amsterdam-noord,dinner,dj,hamerkwartier
X-ALT-DESC;FMTTYPE=text/html:<p>Warming up the month of February is in-hous
	e dj and curator amz. Taking over on the 6th she invites Amsterdam locals 
	and favourites Garnett, Nushin, and Siga, and together they’ll provide sou
	lful tunes all night long. <br> click <a target="_blank" href="https://liv
	e.tebi.co/ecom/reservations/372646_b4046365a80e6c87cd119b473a5993ce1cf3580
	a6a524147fe6c013f9e8bf9b5">here</a> to reserve for dinner ♡</p>
BEGIN:VALARM
ACTION:DISPLAY
DESCRIPTION:amz invites garnett, nushin, and siga
TRIGGER:-PT1H
END:VALARM
END:VEVENT
END:VCALENDAR
