BEGIN:VCALENDAR
VERSION:2.0
CALSCALE:GREGORIAN
PRODID:adamgibbons/ics
METHOD:PUBLISH
X-PUBLISHED-TTL:PT1H
BEGIN:VEVENT
UID:21208@offbeat.amsterdam
SUMMARY:Amy Winehouse tribute
DTSTAMP:20260425T172455Z
DTSTART:20260502T210000Z
DTEND:20260502T223000Z
DESCRIPTION:Color In The Yard presents Kalia\, in tribute to Amy Winehouse.
	\n\nC.I.T.Y’s very own\, Kalia\, is a Greek-Trinidadian artist and songwri
	ter\, based\nin Amsterdam. Heavily inspired by artists such as Bettye Swan
	n\, Lauryn Hill\, Sam\nCooke and Arleta\, her sound is rooted in the tradi
	tions of soul and blues.\n\nOn the 2nd of May\, she will pay tribute to th
	e gone\, but never forgotten Amy\nWinehouse. Amy was known for her laid ba
	ck\, raw performances as well as the deep\nconnection with her band.\n\nJo
	ined by Vincent Eerenberg on piano and Sonny Ray Morris on guitar\, that s
	ame\nspirit is carried into this night through stripped-down renditions of
	 her most\nbeloved songs.\n\nWe’d love to have you in the room for this sp
	ecial evening\, live at Contra.
URL:https://offbeat.amsterdam/event/amy-winehouse-tribute
GEO:52.3691458;4.8950558
LOCATION:Contra - Oudezijds Achterburgwal 235\, 1012 DL Amsterdam
STATUS:CONFIRMED
CATEGORIES:amsterdam-centrum,burgwallen,live,performance,piano,soul
X-ALT-DESC;FMTTYPE=text/html:<p>Color In The Yard presents Kalia, in tribut
	e to Amy Winehouse.<br><br>C.I.T.Y’s very own, Kalia, is a Greek-Trinidadi
	an artist and songwriter, based in Amsterdam. Heavily inspired by artists 
	such as Bettye Swann, Lauryn Hill, Sam Cooke and Arleta, her sound is root
	ed in the traditions of soul and blues.</p><p>On the 2nd of May, she will 
	pay tribute to the gone, but never forgotten Amy Winehouse. Amy was known 
	for her laid back, raw performances as well as the deep connection with he
	r band.</p><p>Joined by Vincent Eerenberg on piano and Sonny Ray Morris on
	 guitar, that same spirit is carried into&nbsp;this night&nbsp;through str
	ipped-down renditions of her most beloved songs.</p><p>We’d love to have y
	ou in the room for this special evening, live at Contra.</p>
BEGIN:VALARM
ACTION:DISPLAY
DESCRIPTION:Amy Winehouse tribute
TRIGGER:-PT1H
END:VALARM
END:VEVENT
END:VCALENDAR
