BEGIN:VCALENDAR
VERSION:2.0
CALSCALE:GREGORIAN
PRODID:adamgibbons/ics
METHOD:PUBLISH
X-PUBLISHED-TTL:PT1H
BEGIN:VEVENT
UID:20979@offbeat.amsterdam
SUMMARY:Amsterdam Student Film Festival
DTSTAMP:20260420T181852Z
DTSTART:20260529T163000Z
DESCRIPTION:Elk jaar organiseert en produceert een groep gepassioneerde stu
	dentvrijwilligers\nhet Amsterdam Student Film Festival (AmsFF) om opkomend
	e kunstenaars\nzichtbaarheid te bieden en daarbij een gemeenschap te creër
	en van jonge mensen\nin heel Amsterdam die een passie voor film delen. Ams
	FF begon in 2022\, toen zes\nstudenten van Amsterdam University College he
	t gebrek aan platforms voor\nstudentenwerk opmerkten en besloten er zelf e
	en op te zetten\, vrijwel zonder\nfinanciering of formele structuur. Nu\, 
	drie jaar later\, is het festival\nonafhankelijk van academische instellin
	gen en bestaat het uit een nog groter\nteam van vrijwilligers met uiteenlo
	pende academische en professionele\nachtergronden\, die allemaal enthousia
	st zijn om de meest ambitieuze editie van\nAmsFF tot nu toe te realiseren.
	 Het festival vindt plaats van 29 tot en met 31\nmei op vijf onafhankelijk
	e locaties in Amsterdam: FC Hyena\, De Uitkijk\, Het\nDocumentaire Paviljo
	en\, LAB111 en Droog. Net als in voorgaande jaren zal een\njury van divers
	e filmprofessionals uit de industrie de korte films selecteren en\nfeedbac
	k geven aan de filmmakers. Voor bezoekers biedt dit niet alleen de unieke\
	nkans om experimentele nieuwe films te bekijken\, maar ook om de filmmaker
	s vragen\nte stellen\, bijvoorbeeld tijdens Q&A’s.\n\nMore info here [http
	s://uitkijk.nl/en/film/ams-ff-x-uitkijk]!
URL:https://offbeat.amsterdam/event/amsterdam-student-film-festival
GEO:52.36476;4.8843948
LOCATION:De Uitkijk - Prinsengracht 452\, 1017 KE Amsterdam
STATUS:CONFIRMED
CATEGORIES:amsterdam-centrum,festivals,film,leidseplein
X-ALT-DESC;FMTTYPE=text/html:<p>Elk jaar organiseert en produceert een groe
	p gepassioneerde studentvrijwilligers het Amsterdam Student Film Festival 
	(AmsFF) om opkomende kunstenaars zichtbaarheid te bieden en daarbij een ge
	meenschap te creëren van jonge mensen in heel Amsterdam die een passie voo
	r film delen. AmsFF begon in 2022, toen zes studenten van Amsterdam Univer
	sity College het gebrek aan platforms voor studentenwerk opmerkten en besl
	oten er zelf een op te zetten, vrijwel zonder financiering of formele stru
	ctuur. Nu, drie jaar later, is het festival onafhankelijk van academische 
	instellingen en bestaat het uit een nog groter team van vrijwilligers met 
	uiteenlopende academische en professionele achtergronden, die allemaal ent
	housiast zijn om de meest ambitieuze editie van AmsFF tot nu toe te realis
	eren. Het festival vindt plaats van 29 tot en met 31 mei op vijf onafhanke
	lijke locaties in Amsterdam: FC Hyena, De Uitkijk, Het Documentaire Pavilj
	oen, LAB111 en Droog. Net als in voorgaande jaren zal een jury van diverse
	 filmprofessionals uit de industrie de korte films selecteren en feedback 
	geven aan de filmmakers. Voor bezoekers biedt dit niet alleen de unieke ka
	ns om experimentele nieuwe films te bekijken, maar ook om de filmmakers vr
	agen te stellen, bijvoorbeeld tijdens Q&amp;A’s.</p><p><b>More info <a hre
	f="https://uitkijk.nl/en/film/ams-ff-x-uitkijk">here</a>!</b></p>
BEGIN:VALARM
ACTION:DISPLAY
DESCRIPTION:Amsterdam Student Film Festival
TRIGGER:-PT1H
END:VALARM
END:VEVENT
END:VCALENDAR
