BEGIN:VCALENDAR
VERSION:2.0
CALSCALE:GREGORIAN
PRODID:adamgibbons/ics
METHOD:PUBLISH
X-PUBLISHED-TTL:PT1H
BEGIN:VEVENT
UID:21196@offbeat.amsterdam
SUMMARY:Aman molli: Practice of east Mediterranean Music
DTSTAMP:20260424T234839Z
DTSTART:20260529T183000Z
DTEND:20260529T215500Z
DESCRIPTION:This is a weekly open practice session of east Mediterranean mu
	sic\, in which we\nplay genres such as rebetiko and Greek/Balkan/Turkish/M
	iddle Eastern folk music.\nTogether we explore the melodic pathways\, rhyt
	hms (e.g. 9/8\, 7/8. 5/4) and\nharmonies of\, as well as connections betwe
	en these musical traditions. We gather\nto have fun playing music together
	\, to share musical knowledge and experience\,\nand improve our skills on 
	our instruments. We welcome interested newcomers to\njoin in\, regardless 
	of musical experience\, and using any kind of instrument\n(strings\, percu
	ssion\, wind\, voice). We have to be mindful of the neighbours and\npredom
	inantly play acoustically\, or in case of electric instruments\, at very l
	ow\nvolume.\n\nBring your instruments and your best mood!
URL:https://offbeat.amsterdam/event/aman-molli-practice-of-east-mediterrane
	an-music-48
GEO:52.35556625;4.9249982
LOCATION:Joe's Garage - Pretoriusstraat 43\, 1092 EZ Amsterdam
STATUS:CONFIRMED
CATEGORIES:amsterdam-oost,music,practice session,transvaalbuurt
X-ALT-DESC;FMTTYPE=text/html:<p>This is a weekly open practice session of e
	ast Mediterranean music, in which we play genres such as rebetiko and Gree
	k/Balkan/Turkish/Middle Eastern folk music. Together we explore the melodi
	c pathways, rhythms (e.g. 9/8, 7/8. 5/4) and harmonies of, as well as conn
	ections between these musical traditions. We gather to have fun playing mu
	sic together, to share musical knowledge and experience, and improve our s
	kills on our instruments. We welcome interested newcomers to join in, rega
	rdless of musical experience, and using any kind of instrument (strings, p
	ercussion, wind, voice). We have to be mindful of the neighbours and predo
	minantly play acoustically, or in case of electric instruments, at very lo
	w volume.</p><br><p>Bring your instruments and your best mood!</p>
BEGIN:VALARM
ACTION:DISPLAY
DESCRIPTION:Aman molli: Practice of east Mediterranean Music
TRIGGER:-PT1H
END:VALARM
END:VEVENT
END:VCALENDAR
