BEGIN:VCALENDAR
VERSION:2.0
CALSCALE:GREGORIAN
PRODID:adamgibbons/ics
METHOD:PUBLISH
X-PUBLISHED-TTL:PT1H
BEGIN:VEVENT
UID:21215@offbeat.amsterdam
SUMMARY:Alok
DTSTAMP:20260425T175248Z
DTSTART:20260801T170000Z
DESCRIPTION:Alok challenges the gender binary through poetry\, comedy\, and
	 a healthy dose of\nradical self-acceptance. The world-renowned performer 
	blends softness with\nhumor\, proving that healing begins with the uncondi
	tional freedom to be\nyourself. Whether it be through their acclaimed book
	s or sold-out shows on\nNetflix Is a Joke\, Alok’s message inspires people
	 worldwide and hits like a\nsledgehammer of love.\n\nIn Alok’s first comed
	y special\, “BIOLOGY!\,” they are the subject of the short\ndocumentary “A
	LOK\,” produced by Jodie Foster and directed by Alex Hedison. On\nscreen\,
	 they can also be seen in “Complicated Order\,” “The Trans List\,” and\n“A
	bsolute Dominion” (coming soon). On television\, Alok has appeared in HBO’
	s\n“Sex Lives of College Girls\,” “Sort Of\,” and “Random Acts of Flyness\
	,” Hulu’s\n“Planet Sex with Cara Delevingne\,” and Netflix’s “Gender Agend
	a Comedy Special”\nand “Getting Curious with Jonathan Van Ness.”\n\nThis s
	ummer\, Alok will be touring in Europe with a stand-up comedy show. During
	\nWorld Pride\, they’ll also be stopping by Melkweg for a performance in t
	he\nadjacent Rabozaal. Ticket sales have already started!
URL:https://offbeat.amsterdam/event/alok
GEO:52.3647777;4.881073026725959
LOCATION:Melkweg - Lijnbaansgracht 234A\, 1017 PH Amsterdam
STATUS:CONFIRMED
CATEGORIES:activisme,amsterdam-centrum,comedian,concert,gender-fluid,leidse
	plein,lgbtqia+
X-ALT-DESC;FMTTYPE=text/html:<p>Alok challenges the gender binary through p
	oetry, comedy, and a healthy dose of radical self-acceptance. The world-re
	nowned performer blends softness with humor, proving that healing begins w
	ith the unconditional freedom to be yourself. Whether it be through their 
	acclaimed books or sold-out shows on Netflix Is a Joke, Alok’s message ins
	pires people worldwide and hits like a sledgehammer of love.</p><p>In Alok
	’s first comedy special, “BIOLOGY!,” they are the subject of the short doc
	umentary “ALOK,” produced by Jodie Foster and directed by Alex Hedison. On
	 screen, they can also be seen in “Complicated Order,” “The Trans List,” a
	nd “Absolute Dominion” (coming soon). On television, Alok has appeared in 
	HBO’s “Sex Lives of College Girls,” “Sort Of,” and “Random Acts of Flyness
	,” Hulu’s “Planet Sex with Cara Delevingne,” and Netflix’s “Gender Agenda 
	Comedy Special” and “Getting Curious with Jonathan Van Ness.”</p><p><stron
	g>This summer, Alok will be touring in Europe with a stand-up comedy show.
	 During World Pride, they’ll also be stopping by Melkweg for a performance
	 in the adjacent Rabozaal. Ticket sales have already started!</strong></p>
BEGIN:VALARM
ACTION:DISPLAY
DESCRIPTION:Alok
TRIGGER:-PT1H
END:VALARM
END:VEVENT
END:VCALENDAR
