BEGIN:VCALENDAR
VERSION:2.0
CALSCALE:GREGORIAN
PRODID:adamgibbons/ics
METHOD:PUBLISH
X-PUBLISHED-TTL:PT1H
BEGIN:VEVENT
UID:21044@offbeat.amsterdam
SUMMARY:Alien Chicks
DTSTAMP:20260421T183242Z
DTSTART:20261019T173000Z
DESCRIPTION:Post punk band from London
URL:https://offbeat.amsterdam/event/alien-chicks
GEO:52.36215535;4.883782439016489
LOCATION:Paradiso - Weteringschans 6\, 1017 SG Amsterdam
STATUS:CONFIRMED
CATEGORIES:amsterdam-centrum,leidseplein,punk
X-ALT-DESC;FMTTYPE=text/html:Post punk band from London
BEGIN:VALARM
ACTION:DISPLAY
DESCRIPTION:Alien Chicks
TRIGGER:-PT1H
END:VALARM
END:VEVENT
END:VCALENDAR
