BEGIN:VCALENDAR
VERSION:2.0
CALSCALE:GREGORIAN
PRODID:adamgibbons/ics
METHOD:PUBLISH
X-PUBLISHED-TTL:PT1H
BEGIN:VEVENT
UID:21093@offbeat.amsterdam
SUMMARY:Afterhours
DTSTAMP:20260422T183601Z
DTSTART:20270112T180000Z
DESCRIPTION:The Italian rock band AFTERHOURS is coming to our capital in 20
	27!\n\nAFTERHOURS was founded in 1986 by frontman Manuel Agnelli (singer-s
	ongwriter\,\nmusician\, record producer\, author). They continue to solidi
	fy their place as one\nof the most important and longest-running bands in 
	Italian rock history. The\ncurrent lineup consists of Manuel Agnelli (voca
	ls)\, Andrea Viti (bass)\, Giorgio\nPrette (drums)\, Dario Ciffo (violin\,
	 guitars\, keyboards)\, and Giacomo Rossetti\n(guitar\, keyboards\, percus
	sion). The band’s name was intended as a tribute to\nThe Velvet Undergroun
	d and their song of the same name. They made their debut\nwith the single 
	“My Bit Boy” (1987)\, followed a year later by the mini-LP “All\nthe Good 
	Children Go to Hell.” In addition to their own work\, the band also\nprovi
	ded backing vocals for Greg Dulli and Mark Lanegan’s collaborative project
	\,\nthe Gutter Twins.\n\nTo celebrate the 40th anniversary of their debut 
	EP and the 25th anniversary of\nthe album ‘Quello che non c’è’ (2002)\, th
	e band is coming to Melkweg. A unique\nopportunity to experience this infl
	uential band live!
URL:https://offbeat.amsterdam/event/afterhours
GEO:52.3647777;4.881073026725959
LOCATION:Melkweg - Lijnbaansgracht 234A\, 1017 PH Amsterdam
STATUS:CONFIRMED
CATEGORIES:alternative rock,amsterdam-centrum,concert,grunge,leidseplein,no
	ise rock
X-ALT-DESC;FMTTYPE=text/html:<p>The Italian rock band AFTERHOURS is coming 
	to our capital in 2027!</p><p>AFTERHOURS was founded in 1986 by frontman M
	anuel Agnelli (singer-songwriter, musician, record producer, author). They
	 continue to solidify their place as one of the most important and longest
	-running bands in Italian rock history. The current lineup consists of Man
	uel Agnelli (vocals), Andrea Viti (bass), Giorgio Prette (drums), Dario Ci
	ffo (violin, guitars, keyboards), and Giacomo Rossetti (guitar, keyboards,
	 percussion). The band’s name was intended as a tribute to The Velvet Unde
	rground and their song of the same name. They made their debut with the si
	ngle “My Bit Boy” (1987), followed a year later by the mini-LP “All the Go
	od Children Go to Hell.” In addition to their own work, the band also prov
	ided backing vocals for Greg Dulli and Mark Lanegan’s collaborative projec
	t, the Gutter Twins.</p><p>To celebrate the 40th anniversary of their debu
	t EP and the 25th anniversary of the album ‘Quello che non c’è’ (2002), th
	e band is coming to Melkweg. A unique opportunity to experience this influ
	ential band live!</p>
BEGIN:VALARM
ACTION:DISPLAY
DESCRIPTION:Afterhours
TRIGGER:-PT1H
END:VALARM
END:VEVENT
END:VCALENDAR
