BEGIN:VCALENDAR
VERSION:2.0
CALSCALE:GREGORIAN
PRODID:adamgibbons/ics
METHOD:PUBLISH
X-PUBLISHED-TTL:PT1H
BEGIN:VEVENT
UID:21159@offbeat.amsterdam
SUMMARY:Afro Fest
DTSTAMP:20260424T193510Z
DTSTART:20260530T215900Z
DESCRIPTION:Two areas with the best afrobeats\, hip-hop\, R&B\, dancehall\,
	 Amapiano and\nafrohouse
URL:https://offbeat.amsterdam/event/afro-fest-4
GEO:52.36215535;4.883782439016489
LOCATION:Paradiso - Weteringschans 6\, 1017 SG Amsterdam
STATUS:CONFIRMED
CATEGORIES:afro,afrobeats,amsterdam-centrum,leidseplein,rnb
X-ALT-DESC;FMTTYPE=text/html:Two areas with the best afrobeats, hip-hop, R&
	B, dancehall, Amapiano and afrohouse
BEGIN:VALARM
ACTION:DISPLAY
DESCRIPTION:Afro Fest
TRIGGER:-PT1H
END:VALARM
END:VEVENT
END:VCALENDAR
