BEGIN:VCALENDAR
VERSION:2.0
CALSCALE:GREGORIAN
PRODID:adamgibbons/ics
METHOD:PUBLISH
X-PUBLISHED-TTL:PT1H
BEGIN:VEVENT
UID:21064@offbeat.amsterdam
SUMMARY:Adult DVD
DTSTAMP:20260421T192130Z
DTSTART:20261112T193000Z
DESCRIPTION:Adult DVD is een opkomend muzikaal project dat bekendstaat om z
	ijn energieke mix\nvan post-punk\, indie en elektronische invloeden. De gr
	oep ontstond in het\nVerenigd Koninkrijk en wist al snel aandacht te trekk
	en met hun rauwe sound en\ndansbare ritmes. Hun muziek balanceert tussen d
	onkere\, atmosferische klanken en\naanstekelijke hooks. Afgelopen jaar tek
	enden ze bij Fat Possum Records en hebben\nzich al snel weten te ontwikkel
	en tot een opvallende naam binnen de alternatieve\nmuziekwereld.
URL:https://offbeat.amsterdam/event/adult-dvd
GEO:52.3830883;4.9030297
LOCATION:Tolhuistuin - IJpromenade 2\, 1031 KT Amsterdam
STATUS:CONFIRMED
CATEGORIES:amsterdam-noord,buiksloterweg,indie,music,punk
X-ALT-DESC;FMTTYPE=text/html:<p>Adult DVD is een opkomend muzikaal project 
	dat bekendstaat om zijn energieke mix van post-punk, indie en elektronisch
	e invloeden. De groep ontstond in het Verenigd Koninkrijk en wist al snel 
	aandacht te trekken met hun rauwe sound en dansbare ritmes. Hun muziek bal
	anceert tussen donkere, atmosferische klanken en aanstekelijke hooks. Afge
	lopen jaar tekenden ze bij Fat Possum Records en hebben zich al snel weten
	 te ontwikkelen tot een opvallende naam binnen de alternatieve muziekwerel
	d.</p>
BEGIN:VALARM
ACTION:DISPLAY
DESCRIPTION:Adult DVD
TRIGGER:-PT1H
END:VALARM
END:VEVENT
END:VCALENDAR
