BEGIN:VCALENDAR
VERSION:2.0
CALSCALE:GREGORIAN
PRODID:adamgibbons/ics
METHOD:PUBLISH
X-PUBLISHED-TTL:PT1H
BEGIN:VEVENT
UID:21243@offbeat.amsterdam
SUMMARY:ABC Community bike repair event
DTSTAMP:20260425T180944Z
DTSTART:20260602T110000Z
DTEND:20260602T160000Z
DESCRIPTION:ABC Community bike repair event\nIs your bike making a weird no
	ise? Do you just need a 15mm wrench to tighten the\nwheels? Or do you want
	 to pimp your ride? ABC is hosting a community bike repair\nsession at the
	 Vrankrijk on the 1st and 3rd Tuesdays of the month from\n13:00-18:00.\nTh
	is event is hosted by the ABC\, the Anarchist Bike Collective. We want to 
	truly\nbuild bike sharing. With the growing repression on activist and dem
	onstrators it\nis crucial we build community resources and practice non-vi
	olent provocation.\nInspired by Provo’s white bikes we have been fixing an
	d distributing bikes with\ncombination locks throughout Amsterdam. So if y
	ou want to fix your bike\, or have\nideas on how to source\, maintain and 
	utilise true bike sharing come by for a\ntea.\n\nAnarchist Bike Collective
	 is looking for more ppl who know something about bikes\nto help guide fol
	ks during our events. We are a small non-hierarchical group of\nanarchists
	 who are right now focused on our bike repair cafe but with more\npeople a
	nd time we can bring back our bike-sharing! We are looking for ppl who\nca
	n help others repair their bikes\, and provide some guidance for those wit
	h\nless experience. If you know someone or are someone who would be intere
	sted\,\nplease come to our next ABC event on Tues Nov 4 from 13:00-18:00 a
	t the\nVrankrijk. Or email us at Abikecollective@protonmail.com⁩
URL:https://offbeat.amsterdam/event/abc-community-bike-repair-event-22
GEO:52.3716913;4.8892221
LOCATION:Vrankrijk - Spuistraat 216\, 1012 VT Amsterdam
STATUS:CONFIRMED
CATEGORIES:amsterdam-centrum,community,diy workshop,repair,spui
X-ALT-DESC;FMTTYPE=text/html:<p>ABC Community bike repair event<br> Is your
	 bike making a weird noise? Do you just need a 15mm wrench to tighten the 
	wheels? Or do you want to pimp your ride? ABC is hosting a community bike 
	repair session at the Vrankrijk on the 1st and 3rd Tuesdays of the month f
	rom 13:00-18:00.<br> This event is hosted by the ABC, the Anarchist Bike C
	ollective. We want to truly build bike sharing. With the growing repressio
	n on activist and demonstrators it is crucial we build community resources
	 and practice non-violent provocation. Inspired by Provo’s white bikes we 
	have been fixing and distributing bikes with combination locks throughout 
	Amsterdam. So if you want to fix your bike, or have ideas on how to source
	, maintain and utilise true bike sharing come by for a tea.</p> <p>Anarchi
	st Bike Collective is looking for more ppl who know something about bikes 
	to help guide folks during our events. We are a small non-hierarchical gro
	up of anarchists who are right now focused on our bike repair cafe but wit
	h more people and time we can bring back our bike-sharing! We are looking 
	for ppl who can help others repair their bikes, and provide some guidance 
	for those with less experience. If you know someone or are someone who wou
	ld be interested, please come to our next ABC event on Tues Nov 4 from 13:
	00-18:00 at the Vrankrijk. Or email us at Abikecollective@protonmail.com⁩<
	/p>
BEGIN:VALARM
ACTION:DISPLAY
DESCRIPTION:ABC Community bike repair event
TRIGGER:-PT1H
END:VALARM
END:VEVENT
END:VCALENDAR
