BEGIN:VCALENDAR
VERSION:2.0
CALSCALE:GREGORIAN
PRODID:adamgibbons/ics
METHOD:PUBLISH
X-PUBLISHED-TTL:PT1H
BEGIN:VEVENT
UID:21239@offbeat.amsterdam
SUMMARY:AAAH ! Anarchist Action Assistance Hour
DTSTAMP:20260425T180426Z
DTSTART:20260709T170000Z
DTEND:20260709T200000Z
DESCRIPTION:AAAH! is a weekly Anarchist Action Assistance Hour\, where you 
	can meet other\ngroups that can support you with pulling off your action\,
	 or give advice about\nlogistics. During AAAH! you can make connections wi
	th groups including\, but not\nlimited to: Street Medics\, Support & Recov
	ery and Arrestantengroep.\n\nHow does AAAH work?\n\nWe do consultations we
	ekly\, you can walk in every Thursday from 19:00 until\n20:30. If you want
	 to talk to a specific group\, please reach out to us\nbeforehand so we ca
	n make sure the right person is present. You can do this\neither by stoppi
	ng by or e-mailing us at: a-a-a-h@riseup.net. Please do not\ne-mail us any
	 details of your action\, we would love to hear it in person.\n\nWe are al
	so open as a meeting space for action groups during the assistance\nhour. 
	If your collective wants to meet during AAAH: reach out to us!
URL:https://offbeat.amsterdam/event/aaah-anarchist-action-assistance-hour-6
	8
GEO:52.3716913;4.8892221
LOCATION:Vrankrijk - Spuistraat 216\, 1012 VT Amsterdam
STATUS:CONFIRMED
CATEGORIES:aaah!,amsterdam-centrum,spui,talk
X-ALT-DESC;FMTTYPE=text/html:<p>AAAH! is a weekly Anarchist Action Assistan
	ce Hour, where you can meet other groups that can support you with pulling
	 off your action, or give advice about logistics. During AAAH! you can mak
	e connections with groups including, but not limited to: Street Medics, Su
	pport &amp; Recovery and Arrestantengroep.</p> <p>How does AAAH work?</p> 
	<p>We do consultations weekly, you can walk in every Thursday from 19:00 u
	ntil 20:30. If you want to talk to a specific group, please reach out to u
	s beforehand so we can make sure the right person is present. You can do t
	his either by stopping by or e-mailing us at: a-a-a-h@riseup.net. Please d
	o not e-mail us any details of your action, we would love to hear it in pe
	rson.</p> <p>We are also open as a meeting space for action groups during 
	the assistance hour. If your collective wants to meet during AAAH: reach o
	ut to us!</p>
BEGIN:VALARM
ACTION:DISPLAY
DESCRIPTION:AAAH ! Anarchist Action Assistance Hour
TRIGGER:-PT1H
END:VALARM
END:VEVENT
END:VCALENDAR
