BEGIN:VCALENDAR
VERSION:2.0
CALSCALE:GREGORIAN
PRODID:adamgibbons/ics
METHOD:PUBLISH
X-PUBLISHED-TTL:PT1H
BEGIN:VEVENT
UID:21055@offbeat.amsterdam
SUMMARY:4 & 5 mei // Soep & Boeklezing: Bontebok
DTSTAMP:20260421T183913Z
DTSTART:20260504T160000Z
DTEND:20260504T173000Z
DESCRIPTION:Monday 04 May\n\n\n4 & 5 MEI // SOEP & BOEKLEZING: BONTEBOK\n\n
	Lineup: Peggy's Kitchen\, Jaap VisserTime: 18:00 - 19:30 hrsTickets: € 0\n
	\n\nSOEP & BOEKLEZING\n\nOp 4 en 5 mei serveren we in het Plein Theater gr
	atis vrijheidsmaaltijdsoep uit\nPeggy's Kitchen\, met dank aan het Amsterd
	ams 4 en 5 mei Comité.\n\nMaandag 4 mei is er vanaf 18:00 soep en een boek
	lezing van Jaap Visser over zijn\nrecent verschenen boek 'Bontebok'.\n\nOm
	 20:00 herdenken we gezamelijk.\n\nEn om 20:30 speelt de voorstelling Männ
	erbund\n[https://plein-theater.nl/agenda/21398/4-5-mei-mannerbund] in de t
	heaterzaal\,\nvan Lars Brinkman & Theater Na de Dam Producties.\n\n\nBONTE
	BOK\n\nHoe Friese gemeenschapszin Amsterdamse voetballertjes de Tweede Wer
	eldoorlog\ndeed overleven\n\nTussen het hongerende Amsterdam en het Friese
	 boerenland pendelde tijdens de\noorlog de Lemmerboot. Het elegante salons
	chip redde joden\, hielp etenhalers en\nbracht tientallen voetballertjes u
	it de hoofdstad als hongerevacues naar\nHeerenveen\, waar ze optrokken met
	 de jonge voetbalheld Abe Lenstra.\n\nIn Bontebok voert journalist Jaap Vi
	sser ons mee naar hun belevenissen en naar\nandere verhalen die getuigen v
	an uitzonderlijke moed in het weidse Friesland met\nal zijn schuilplekken.
	 In Bontebok\, vlakbij Heerenveen\, doken zelfs zoveel joden\nonder dat de
	 vaart dwars door dit eigenzinnige dorp de Jordaan werd genoemd.\nDankzij 
	de Friese gemeenschapszin\, mienskip\, wisten onderduikers\, joden en de\n
	voetbaljongens uit Amsterdams de oorlog te overleven. ‘Hoe gevaarlijk het 
	ook\nwas om je nek uit te steken voor je medemens\, je deed het. Niet om d
	e held uit\nte hangen\, maar omdat het moest. Punt uit.’\n\n\nJAAP VISSER\
	n\nJaap Visser (1959) bekwaamde zich vanaf zijn negentiende bij het Leidsc
	h Dagblad\nin het journalistenvak. Hij stapte over naar de Volkskrant\, ve
	rvolgde zijn\nloopbaan bij Vrij Nederland\, was medeoprichter van het lege
	ndarische\nvoetbalmaandblad Johan en werd bij Kick uitgevers schrijver en 
	uitgever van\nvooral luxe voetbalboeken. Jaap Visser is een voetbalromanti
	cus bij uitstek\, met\neen brede interesse in geschiedenis en een fascinat
	ie voor de Tweede\nWereldoorlog.\n\n\n4 EN 5 MEI IN EN RONDOM HET PLEIN TH
	EATER\n\nOp 4 en 5 mei kan je in en rondom het Plein Theater terecht voor 
	diverse\nprogramma’s in het kader van herdenken en het vieren van vrijheid
	. Als theater\nin Amsterdam Oost\, midden in een buurt vol geschiedenis en
	 struikelstenen\,\ncreëren we jaarlijks een plek samen met de buurt en de 
	stad. We kijken niet\nalleen terug\, maar onderzoeken ook wat vrijheid van
	daag betekend.\n\nWe nodigen je uit om vrijheid niet te zien als iets vanz
	elfsprekends of\nindividueels\, maar iets dat we samen blijven vormgeven\,
	 bevragen en onderhouden.\nVrijheid vraagt om aandacht\, om actie\, om het
	 luisteren naar elkaar en om ruimte\nte maken voor verschillende stemmen e
	n verhalen.\n\nHoe verhoudt onze persoonlijke vrijheid zich tot die van ee
	n ander? En wat\nvraagt het van ons om in een diverse stad\, met verschill
	ende geschiedenissen en\nperspectieven\, samen vrij te zijn?\n\nWe nodigen
	 je uit om te komen kijken\, luisteren en deelnemen. Om samen stil te\nsta
	an\, en in beweging te komen. Omdat vrijheid geen eindpunt is\, maar een\n
	gezamenlijke praktijk.\n\nBekijk hier het programma >\n[https://plein-thea
	ter.nl/nieuws/4-en-5-mei-in-en-rondom-het-plein-theater]
URL:https://offbeat.amsterdam/event/4-and-5-mei-soep-and-boeklezing-bontebo
	k
GEO:52.3608907;4.9138063
LOCATION:Plein Theater - Sajetplein 39\, 1091 DB Amsterdam
STATUS:CONFIRMED
CATEGORIES:amsterdam-oost,food,kitchen,oosterparkbuurt,theater
X-ALT-DESC;FMTTYPE=text/html:Monday 04 May<h1>4 &amp; 5 mei // Soep &amp; B
	oeklezing: Bontebok</h1>Lineup: Peggy's Kitchen, Jaap VisserTime: 18:00 - 
	19:30 hrsTickets: € 0 <h2><strong>Soep &amp; Boeklezing</strong></h2> <p>O
	p 4 en 5 mei serveren we in het Plein Theater gratis vrijheidsmaaltijdsoep
	 uit Peggy's Kitchen, met dank aan het Amsterdams 4 en 5 mei Comité.</p> <
	p>Maandag 4 mei is er vanaf 18:00 soep en een boeklezing van Jaap Visser o
	ver zijn recent verschenen boek 'Bontebok'.</p> <p>Om 20:00 herdenken we g
	ezamelijk.</p> <p>En om 20:30 speelt de voorstelling <strong><a target="_b
	lank" href="https://plein-theater.nl/agenda/21398/4-5-mei-mannerbund">Männ
	erbund</a></strong> in de theaterzaal, van Lars Brinkman &amp; Theater Na 
	de Dam Producties.</p> <h2><strong>Bontebok</strong></h2> <p><strong>Hoe F
	riese gemeenschapszin Amsterdamse voetballertjes de Tweede Wereldoorlog de
	ed overleven</strong></p> <p>Tussen het hongerende Amsterdam en het Friese
	 boerenland pendelde tijdens de oorlog de <em>Lemmerboot</em>. Het elegant
	e salonschip redde joden, hielp etenhalers en bracht tientallen voetballer
	tjes uit de hoofdstad als hongerevacues naar Heerenveen, waar ze optrokken
	 met de jonge voetbalheld Abe Lenstra.</p> <p>In <em>Bontebok </em>voert j
	ournalist Jaap Visser ons mee naar hun belevenissen en naar andere verhale
	n die getuigen van uitzonderlijke moed in het weidse Friesland met al zijn
	 schuilplekken. In Bontebok, vlakbij Heerenveen, doken zelfs zoveel joden 
	onder dat de vaart dwars door dit eigenzinnige dorp de Jordaan werd genoem
	d. Dankzij de Friese gemeenschapszin, <em>mienskip</em>, wisten onderduike
	rs, joden en de voetbaljongens uit Amsterdams de oorlog te overleven. ‘Hoe
	 gevaarlijk het ook was om je nek uit te steken voor je medemens, je deed 
	het. Niet om de held uit te hangen, maar omdat het moest. Punt uit.’</p> <
	h2><strong>Jaap Visser</strong></h2> <p>Jaap Visser (1959) bekwaamde zich 
	vanaf zijn negentiende bij het <em>Leidsch Dagblad </em>in het journaliste
	nvak. Hij stapte over naar <em>de Volkskrant</em>, vervolgde zijn loopbaan
	 bij <em>Vrij Nederland</em>, was medeoprichter van het legendarische voet
	balmaandblad <em>Johan </em>en werd bij Kick uitgevers schrijver en uitgev
	er van vooral luxe voetbalboeken. Jaap Visser is een voetbalromanticus bij
	 uitstek, met een brede interesse in geschiedenis en een fascinatie voor d
	e Tweede Wereldoorlog.</p> <h2><strong>4 en 5 mei in en rondom het Plein t
	heater</strong></h2> <p>Op 4 en 5 mei kan je in en rondom het Plein Theate
	r terecht voor diverse programma’s in het kader van herdenken en het viere
	n van vrijheid. Als theater in Amsterdam Oost, midden in een buurt vol ges
	chiedenis en struikelstenen, creëren we jaarlijks een plek samen met de bu
	urt en de stad. We kijken niet alleen terug, maar onderzoeken ook wat vrij
	heid vandaag betekend.</p> <p>We nodigen je uit om vrijheid niet te zien a
	ls iets vanzelfsprekends of individueels, maar iets dat we samen blijven v
	ormgeven, bevragen en onderhouden. Vrijheid vraagt om aandacht, om actie, 
	om het luisteren naar elkaar en om ruimte te maken voor verschillende stem
	men en verhalen.</p> <p>Hoe verhoudt onze persoonlijke vrijheid zich tot d
	ie van een ander? En wat vraagt het van ons om in een diverse stad, met ve
	rschillende geschiedenissen en perspectieven, samen vrij te zijn?</p> <p>W
	e nodigen je uit om te komen kijken, luisteren en deelnemen. Om samen stil
	 te staan, en in beweging te komen. Omdat vrijheid geen eindpunt is, maar 
	een gezamenlijke praktijk.</p> <p><strong><a target="_blank" href="https:/
	/plein-theater.nl/nieuws/4-en-5-mei-in-en-rondom-het-plein-theater">Bekijk
	 hier het programma &gt;</a></strong></p>
BEGIN:VALARM
ACTION:DISPLAY
DESCRIPTION:4 & 5 mei // Soep & Boeklezing: Bontebok
TRIGGER:-PT1H
END:VALARM
END:VEVENT
END:VCALENDAR
